BEGIN:VCALENDAR
VERSION:2.0
PRODID:-//PILATES4you - ECPv6.15.20//NONSGML v1.0//EN
CALSCALE:GREGORIAN
METHOD:PUBLISH
X-WR-CALNAME:PILATES4you
X-ORIGINAL-URL:https://pilates4you.eu
X-WR-CALDESC:Veranstaltungen für PILATES4you
REFRESH-INTERVAL;VALUE=DURATION:PT1H
X-Robots-Tag:noindex
X-PUBLISHED-TTL:PT1H
BEGIN:VTIMEZONE
TZID:Europe/Berlin
BEGIN:DAYLIGHT
TZOFFSETFROM:+0100
TZOFFSETTO:+0200
TZNAME:CEST
DTSTART:20260329T010000
END:DAYLIGHT
BEGIN:STANDARD
TZOFFSETFROM:+0200
TZOFFSETTO:+0100
TZNAME:CET
DTSTART:20261025T010000
END:STANDARD
BEGIN:DAYLIGHT
TZOFFSETFROM:+0100
TZOFFSETTO:+0200
TZNAME:CEST
DTSTART:20270328T010000
END:DAYLIGHT
BEGIN:STANDARD
TZOFFSETFROM:+0200
TZOFFSETTO:+0100
TZNAME:CET
DTSTART:20271031T010000
END:STANDARD
BEGIN:DAYLIGHT
TZOFFSETFROM:+0100
TZOFFSETTO:+0200
TZNAME:CEST
DTSTART:20280326T010000
END:DAYLIGHT
BEGIN:STANDARD
TZOFFSETFROM:+0200
TZOFFSETTO:+0100
TZNAME:CET
DTSTART:20281029T010000
END:STANDARD
END:VTIMEZONE
BEGIN:VEVENT
DTSTART;TZID=Europe/Berlin:20270505T180000
DTEND;TZID=Europe/Berlin:20270505T190000
DTSTAMP:20260423T121941
CREATED:20200609T114507Z
LAST-MODIFIED:20200609T114507Z
UID:16973-1809540000-1809543600@pilates4you.eu
SUMMARY:Pilates Mattenkurs Level 1-2 (max. 6 Teilnehmer)
DESCRIPTION:Für diejenigen\, die bereits einen Einsteiger-Kurs absolviert haben und mit Pilates-Training weitermachen wollen.
URL:https://pilates4you.eu/event/pilates-mattenkurs-level-1-2-max-6-teilnehmer/2027-05-05/
ATTACH;FMTTYPE=image/jpeg:https://pilates4you.eu/wp-content/uploads/2018/01/pilates4you_kursraum.jpg
END:VEVENT
BEGIN:VEVENT
DTSTART;TZID=Europe/Berlin:20270505T191500
DTEND;TZID=Europe/Berlin:20270505T211500
DTSTAMP:20260423T121941
CREATED:20200609T114626Z
LAST-MODIFIED:20200609T114626Z
UID:16974-1809544500-1809551700@pilates4you.eu
SUMMARY:Pilates Mattenkurs Level 2 (max. 6 Teilnehmer)
DESCRIPTION:Dieser Kurs richtet sich an diejenigen\, die mit der Pilates-Methode vertraut sind und das Training vertiefen wollen.
URL:https://pilates4you.eu/event/yoga-am-abend-max-6-teilnehmer/2027-05-05/
LOCATION:Hotel Achtermann\, Goslar\, Mauerstr. 39\, Goslar\, 38640
ATTACH;FMTTYPE=image/jpeg:https://pilates4you.eu/wp-content/uploads/2018/01/pilates4you_kursraum.jpg
GEO:51.9096145;10.4274822
X-APPLE-STRUCTURED-LOCATION;VALUE=URI;X-ADDRESS=Hotel Achtermann Goslar Mauerstr. 39 Goslar 38640;X-APPLE-RADIUS=500;X-TITLE=Mauerstr. 39:geo:10.4274822,51.9096145
END:VEVENT
BEGIN:VEVENT
DTSTART;TZID=Europe/Berlin:20270507T160000
DTEND;TZID=Europe/Berlin:20270507T170000
DTSTAMP:20260423T121941
CREATED:20200609T114932Z
LAST-MODIFIED:20200609T114932Z
UID:16977-1809705600-1809709200@pilates4you.eu
SUMMARY:Pilates Mattenkurs Level 2 (max. 6 Teilnehmer)
DESCRIPTION:Dieser Kurs richtet sich an diejenigen\, die mit der Pilates-Methode vertraut sind und das Training vertiefen wollen.
URL:https://pilates4you.eu/event/pilates-mattenkurs-level-2-max-6-teilnehmer/2027-05-07/
LOCATION:Hotel Achtermann\, Goslar\, Mauerstr. 39\, Goslar\, 38640
ATTACH;FMTTYPE=image/jpeg:https://pilates4you.eu/wp-content/uploads/2018/01/pilates4you_kursraum.jpg
GEO:51.9096145;10.4274822
X-APPLE-STRUCTURED-LOCATION;VALUE=URI;X-ADDRESS=Hotel Achtermann Goslar Mauerstr. 39 Goslar 38640;X-APPLE-RADIUS=500;X-TITLE=Mauerstr. 39:geo:10.4274822,51.9096145
END:VEVENT
BEGIN:VEVENT
DTSTART;TZID=Europe/Berlin:20270512T180000
DTEND;TZID=Europe/Berlin:20270512T190000
DTSTAMP:20260423T121941
CREATED:20200609T114507Z
LAST-MODIFIED:20200609T114507Z
UID:16984-1810144800-1810148400@pilates4you.eu
SUMMARY:Pilates Mattenkurs Level 1-2 (max. 6 Teilnehmer)
DESCRIPTION:Für diejenigen\, die bereits einen Einsteiger-Kurs absolviert haben und mit Pilates-Training weitermachen wollen.
URL:https://pilates4you.eu/event/pilates-mattenkurs-level-1-2-max-6-teilnehmer/2027-05-12/
ATTACH;FMTTYPE=image/jpeg:https://pilates4you.eu/wp-content/uploads/2018/01/pilates4you_kursraum.jpg
END:VEVENT
BEGIN:VEVENT
DTSTART;TZID=Europe/Berlin:20270512T191500
DTEND;TZID=Europe/Berlin:20270512T211500
DTSTAMP:20260423T121941
CREATED:20200609T114626Z
LAST-MODIFIED:20200609T114626Z
UID:16985-1810149300-1810156500@pilates4you.eu
SUMMARY:Pilates Mattenkurs Level 2 (max. 6 Teilnehmer)
DESCRIPTION:Dieser Kurs richtet sich an diejenigen\, die mit der Pilates-Methode vertraut sind und das Training vertiefen wollen.
URL:https://pilates4you.eu/event/yoga-am-abend-max-6-teilnehmer/2027-05-12/
LOCATION:Hotel Achtermann\, Goslar\, Mauerstr. 39\, Goslar\, 38640
ATTACH;FMTTYPE=image/jpeg:https://pilates4you.eu/wp-content/uploads/2018/01/pilates4you_kursraum.jpg
GEO:51.9096145;10.4274822
X-APPLE-STRUCTURED-LOCATION;VALUE=URI;X-ADDRESS=Hotel Achtermann Goslar Mauerstr. 39 Goslar 38640;X-APPLE-RADIUS=500;X-TITLE=Mauerstr. 39:geo:10.4274822,51.9096145
END:VEVENT
BEGIN:VEVENT
DTSTART;TZID=Europe/Berlin:20270514T160000
DTEND;TZID=Europe/Berlin:20270514T170000
DTSTAMP:20260423T121941
CREATED:20200609T114932Z
LAST-MODIFIED:20200609T114932Z
UID:16993-1810310400-1810314000@pilates4you.eu
SUMMARY:Pilates Mattenkurs Level 2 (max. 6 Teilnehmer)
DESCRIPTION:Dieser Kurs richtet sich an diejenigen\, die mit der Pilates-Methode vertraut sind und das Training vertiefen wollen.
URL:https://pilates4you.eu/event/pilates-mattenkurs-level-2-max-6-teilnehmer/2027-05-14/
LOCATION:Hotel Achtermann\, Goslar\, Mauerstr. 39\, Goslar\, 38640
ATTACH;FMTTYPE=image/jpeg:https://pilates4you.eu/wp-content/uploads/2018/01/pilates4you_kursraum.jpg
GEO:51.9096145;10.4274822
X-APPLE-STRUCTURED-LOCATION;VALUE=URI;X-ADDRESS=Hotel Achtermann Goslar Mauerstr. 39 Goslar 38640;X-APPLE-RADIUS=500;X-TITLE=Mauerstr. 39:geo:10.4274822,51.9096145
END:VEVENT
BEGIN:VEVENT
DTSTART;TZID=Europe/Berlin:20270519T180000
DTEND;TZID=Europe/Berlin:20270519T190000
DTSTAMP:20260423T121941
CREATED:20200609T114507Z
LAST-MODIFIED:20200609T114507Z
UID:17005-1810749600-1810753200@pilates4you.eu
SUMMARY:Pilates Mattenkurs Level 1-2 (max. 6 Teilnehmer)
DESCRIPTION:Für diejenigen\, die bereits einen Einsteiger-Kurs absolviert haben und mit Pilates-Training weitermachen wollen.
URL:https://pilates4you.eu/event/pilates-mattenkurs-level-1-2-max-6-teilnehmer/2027-05-19/
ATTACH;FMTTYPE=image/jpeg:https://pilates4you.eu/wp-content/uploads/2018/01/pilates4you_kursraum.jpg
END:VEVENT
BEGIN:VEVENT
DTSTART;TZID=Europe/Berlin:20270519T191500
DTEND;TZID=Europe/Berlin:20270519T211500
DTSTAMP:20260423T121941
CREATED:20200609T114626Z
LAST-MODIFIED:20200609T114626Z
UID:17006-1810754100-1810761300@pilates4you.eu
SUMMARY:Pilates Mattenkurs Level 2 (max. 6 Teilnehmer)
DESCRIPTION:Dieser Kurs richtet sich an diejenigen\, die mit der Pilates-Methode vertraut sind und das Training vertiefen wollen.
URL:https://pilates4you.eu/event/yoga-am-abend-max-6-teilnehmer/2027-05-19/
LOCATION:Hotel Achtermann\, Goslar\, Mauerstr. 39\, Goslar\, 38640
ATTACH;FMTTYPE=image/jpeg:https://pilates4you.eu/wp-content/uploads/2018/01/pilates4you_kursraum.jpg
GEO:51.9096145;10.4274822
X-APPLE-STRUCTURED-LOCATION;VALUE=URI;X-ADDRESS=Hotel Achtermann Goslar Mauerstr. 39 Goslar 38640;X-APPLE-RADIUS=500;X-TITLE=Mauerstr. 39:geo:10.4274822,51.9096145
END:VEVENT
BEGIN:VEVENT
DTSTART;TZID=Europe/Berlin:20270521T160000
DTEND;TZID=Europe/Berlin:20270521T170000
DTSTAMP:20260423T121941
CREATED:20200609T114932Z
LAST-MODIFIED:20200609T114932Z
UID:17011-1810915200-1810918800@pilates4you.eu
SUMMARY:Pilates Mattenkurs Level 2 (max. 6 Teilnehmer)
DESCRIPTION:Dieser Kurs richtet sich an diejenigen\, die mit der Pilates-Methode vertraut sind und das Training vertiefen wollen.
URL:https://pilates4you.eu/event/pilates-mattenkurs-level-2-max-6-teilnehmer/2027-05-21/
LOCATION:Hotel Achtermann\, Goslar\, Mauerstr. 39\, Goslar\, 38640
ATTACH;FMTTYPE=image/jpeg:https://pilates4you.eu/wp-content/uploads/2018/01/pilates4you_kursraum.jpg
GEO:51.9096145;10.4274822
X-APPLE-STRUCTURED-LOCATION;VALUE=URI;X-ADDRESS=Hotel Achtermann Goslar Mauerstr. 39 Goslar 38640;X-APPLE-RADIUS=500;X-TITLE=Mauerstr. 39:geo:10.4274822,51.9096145
END:VEVENT
BEGIN:VEVENT
DTSTART;TZID=Europe/Berlin:20270526T180000
DTEND;TZID=Europe/Berlin:20270526T190000
DTSTAMP:20260423T121941
CREATED:20200609T114507Z
LAST-MODIFIED:20200609T114507Z
UID:17021-1811354400-1811358000@pilates4you.eu
SUMMARY:Pilates Mattenkurs Level 1-2 (max. 6 Teilnehmer)
DESCRIPTION:Für diejenigen\, die bereits einen Einsteiger-Kurs absolviert haben und mit Pilates-Training weitermachen wollen.
URL:https://pilates4you.eu/event/pilates-mattenkurs-level-1-2-max-6-teilnehmer/2027-05-26/
ATTACH;FMTTYPE=image/jpeg:https://pilates4you.eu/wp-content/uploads/2018/01/pilates4you_kursraum.jpg
END:VEVENT
BEGIN:VEVENT
DTSTART;TZID=Europe/Berlin:20270526T191500
DTEND;TZID=Europe/Berlin:20270526T211500
DTSTAMP:20260423T121941
CREATED:20200609T114626Z
LAST-MODIFIED:20200609T114626Z
UID:17022-1811358900-1811366100@pilates4you.eu
SUMMARY:Pilates Mattenkurs Level 2 (max. 6 Teilnehmer)
DESCRIPTION:Dieser Kurs richtet sich an diejenigen\, die mit der Pilates-Methode vertraut sind und das Training vertiefen wollen.
URL:https://pilates4you.eu/event/yoga-am-abend-max-6-teilnehmer/2027-05-26/
LOCATION:Hotel Achtermann\, Goslar\, Mauerstr. 39\, Goslar\, 38640
ATTACH;FMTTYPE=image/jpeg:https://pilates4you.eu/wp-content/uploads/2018/01/pilates4you_kursraum.jpg
GEO:51.9096145;10.4274822
X-APPLE-STRUCTURED-LOCATION;VALUE=URI;X-ADDRESS=Hotel Achtermann Goslar Mauerstr. 39 Goslar 38640;X-APPLE-RADIUS=500;X-TITLE=Mauerstr. 39:geo:10.4274822,51.9096145
END:VEVENT
BEGIN:VEVENT
DTSTART;TZID=Europe/Berlin:20270528T160000
DTEND;TZID=Europe/Berlin:20270528T170000
DTSTAMP:20260423T121941
CREATED:20200609T114932Z
LAST-MODIFIED:20200609T114932Z
UID:17028-1811520000-1811523600@pilates4you.eu
SUMMARY:Pilates Mattenkurs Level 2 (max. 6 Teilnehmer)
DESCRIPTION:Dieser Kurs richtet sich an diejenigen\, die mit der Pilates-Methode vertraut sind und das Training vertiefen wollen.
URL:https://pilates4you.eu/event/pilates-mattenkurs-level-2-max-6-teilnehmer/2027-05-28/
LOCATION:Hotel Achtermann\, Goslar\, Mauerstr. 39\, Goslar\, 38640
ATTACH;FMTTYPE=image/jpeg:https://pilates4you.eu/wp-content/uploads/2018/01/pilates4you_kursraum.jpg
GEO:51.9096145;10.4274822
X-APPLE-STRUCTURED-LOCATION;VALUE=URI;X-ADDRESS=Hotel Achtermann Goslar Mauerstr. 39 Goslar 38640;X-APPLE-RADIUS=500;X-TITLE=Mauerstr. 39:geo:10.4274822,51.9096145
END:VEVENT
END:VCALENDAR