BEGIN:VCALENDAR
VERSION:2.0
PRODID:-//PILATES4you - ECPv6.15.20//NONSGML v1.0//EN
CALSCALE:GREGORIAN
METHOD:PUBLISH
X-WR-CALNAME:PILATES4you
X-ORIGINAL-URL:https://pilates4you.eu
X-WR-CALDESC:Veranstaltungen für PILATES4you
REFRESH-INTERVAL;VALUE=DURATION:PT1H
X-Robots-Tag:noindex
X-PUBLISHED-TTL:PT1H
BEGIN:VTIMEZONE
TZID:Europe/Berlin
BEGIN:DAYLIGHT
TZOFFSETFROM:+0100
TZOFFSETTO:+0200
TZNAME:CEST
DTSTART:20230326T010000
END:DAYLIGHT
BEGIN:STANDARD
TZOFFSETFROM:+0200
TZOFFSETTO:+0100
TZNAME:CET
DTSTART:20231029T010000
END:STANDARD
BEGIN:DAYLIGHT
TZOFFSETFROM:+0100
TZOFFSETTO:+0200
TZNAME:CEST
DTSTART:20240331T010000
END:DAYLIGHT
BEGIN:STANDARD
TZOFFSETFROM:+0200
TZOFFSETTO:+0100
TZNAME:CET
DTSTART:20241027T010000
END:STANDARD
BEGIN:DAYLIGHT
TZOFFSETFROM:+0100
TZOFFSETTO:+0200
TZNAME:CEST
DTSTART:20250330T010000
END:DAYLIGHT
BEGIN:STANDARD
TZOFFSETFROM:+0200
TZOFFSETTO:+0100
TZNAME:CET
DTSTART:20251026T010000
END:STANDARD
END:VTIMEZONE
BEGIN:VEVENT
DTSTART;TZID=Europe/Berlin:20240703T180000
DTEND;TZID=Europe/Berlin:20240703T190000
DTSTAMP:20260422T071335
CREATED:20200609T114507Z
LAST-MODIFIED:20200609T114507Z
UID:14516-1720029600-1720033200@pilates4you.eu
SUMMARY:Pilates Mattenkurs Level 1-2 (max. 6 Teilnehmer)
DESCRIPTION:Für diejenigen\, die bereits einen Einsteiger-Kurs absolviert haben und mit Pilates-Training weitermachen wollen.
URL:https://pilates4you.eu/event/pilates-mattenkurs-level-1-2-max-6-teilnehmer/2024-07-03/
ATTACH;FMTTYPE=image/jpeg:https://pilates4you.eu/wp-content/uploads/2018/01/pilates4you_kursraum.jpg
END:VEVENT
BEGIN:VEVENT
DTSTART;TZID=Europe/Berlin:20240703T191500
DTEND;TZID=Europe/Berlin:20240703T211500
DTSTAMP:20260422T071335
CREATED:20200609T114626Z
LAST-MODIFIED:20200609T114626Z
UID:14998-1720034100-1720041300@pilates4you.eu
SUMMARY:Pilates Mattenkurs Level 2 (max. 6 Teilnehmer)
DESCRIPTION:Dieser Kurs richtet sich an diejenigen\, die mit der Pilates-Methode vertraut sind und das Training vertiefen wollen.
URL:https://pilates4you.eu/event/yoga-am-abend-max-6-teilnehmer/2024-07-03/
LOCATION:Hotel Achtermann\, Goslar\, Mauerstr. 39\, Goslar\, 38640
ATTACH;FMTTYPE=image/jpeg:https://pilates4you.eu/wp-content/uploads/2018/01/pilates4you_kursraum.jpg
GEO:51.9096145;10.4274822
X-APPLE-STRUCTURED-LOCATION;VALUE=URI;X-ADDRESS=Hotel Achtermann Goslar Mauerstr. 39 Goslar 38640;X-APPLE-RADIUS=500;X-TITLE=Mauerstr. 39:geo:10.4274822,51.9096145
END:VEVENT
BEGIN:VEVENT
DTSTART;TZID=Europe/Berlin:20240705T160000
DTEND;TZID=Europe/Berlin:20240705T170000
DTSTAMP:20260422T071335
CREATED:20200609T114932Z
LAST-MODIFIED:20200609T114932Z
UID:14521-1720195200-1720198800@pilates4you.eu
SUMMARY:Pilates Mattenkurs Level 2 (max. 6 Teilnehmer)
DESCRIPTION:Dieser Kurs richtet sich an diejenigen\, die mit der Pilates-Methode vertraut sind und das Training vertiefen wollen.
URL:https://pilates4you.eu/event/pilates-mattenkurs-level-2-max-6-teilnehmer/2024-07-05/
LOCATION:Hotel Achtermann\, Goslar\, Mauerstr. 39\, Goslar\, 38640
ATTACH;FMTTYPE=image/jpeg:https://pilates4you.eu/wp-content/uploads/2018/01/pilates4you_kursraum.jpg
GEO:51.9096145;10.4274822
X-APPLE-STRUCTURED-LOCATION;VALUE=URI;X-ADDRESS=Hotel Achtermann Goslar Mauerstr. 39 Goslar 38640;X-APPLE-RADIUS=500;X-TITLE=Mauerstr. 39:geo:10.4274822,51.9096145
END:VEVENT
BEGIN:VEVENT
DTSTART;TZID=Europe/Berlin:20240710T180000
DTEND;TZID=Europe/Berlin:20240710T190000
DTSTAMP:20260422T071335
CREATED:20200609T114507Z
LAST-MODIFIED:20200609T114507Z
UID:14526-1720634400-1720638000@pilates4you.eu
SUMMARY:Pilates Mattenkurs Level 1-2 (max. 6 Teilnehmer)
DESCRIPTION:Für diejenigen\, die bereits einen Einsteiger-Kurs absolviert haben und mit Pilates-Training weitermachen wollen.
URL:https://pilates4you.eu/event/pilates-mattenkurs-level-1-2-max-6-teilnehmer/2024-07-10/
ATTACH;FMTTYPE=image/jpeg:https://pilates4you.eu/wp-content/uploads/2018/01/pilates4you_kursraum.jpg
END:VEVENT
BEGIN:VEVENT
DTSTART;TZID=Europe/Berlin:20240710T191500
DTEND;TZID=Europe/Berlin:20240710T211500
DTSTAMP:20260422T071335
CREATED:20200609T114626Z
LAST-MODIFIED:20200609T114626Z
UID:14999-1720638900-1720646100@pilates4you.eu
SUMMARY:Pilates Mattenkurs Level 2 (max. 6 Teilnehmer)
DESCRIPTION:Dieser Kurs richtet sich an diejenigen\, die mit der Pilates-Methode vertraut sind und das Training vertiefen wollen.
URL:https://pilates4you.eu/event/yoga-am-abend-max-6-teilnehmer/2024-07-10/
LOCATION:Hotel Achtermann\, Goslar\, Mauerstr. 39\, Goslar\, 38640
ATTACH;FMTTYPE=image/jpeg:https://pilates4you.eu/wp-content/uploads/2018/01/pilates4you_kursraum.jpg
GEO:51.9096145;10.4274822
X-APPLE-STRUCTURED-LOCATION;VALUE=URI;X-ADDRESS=Hotel Achtermann Goslar Mauerstr. 39 Goslar 38640;X-APPLE-RADIUS=500;X-TITLE=Mauerstr. 39:geo:10.4274822,51.9096145
END:VEVENT
BEGIN:VEVENT
DTSTART;TZID=Europe/Berlin:20240712T160000
DTEND;TZID=Europe/Berlin:20240712T170000
DTSTAMP:20260422T071335
CREATED:20200609T114932Z
LAST-MODIFIED:20200609T114932Z
UID:14531-1720800000-1720803600@pilates4you.eu
SUMMARY:Pilates Mattenkurs Level 2 (max. 6 Teilnehmer)
DESCRIPTION:Dieser Kurs richtet sich an diejenigen\, die mit der Pilates-Methode vertraut sind und das Training vertiefen wollen.
URL:https://pilates4you.eu/event/pilates-mattenkurs-level-2-max-6-teilnehmer/2024-07-12/
LOCATION:Hotel Achtermann\, Goslar\, Mauerstr. 39\, Goslar\, 38640
ATTACH;FMTTYPE=image/jpeg:https://pilates4you.eu/wp-content/uploads/2018/01/pilates4you_kursraum.jpg
GEO:51.9096145;10.4274822
X-APPLE-STRUCTURED-LOCATION;VALUE=URI;X-ADDRESS=Hotel Achtermann Goslar Mauerstr. 39 Goslar 38640;X-APPLE-RADIUS=500;X-TITLE=Mauerstr. 39:geo:10.4274822,51.9096145
END:VEVENT
BEGIN:VEVENT
DTSTART;TZID=Europe/Berlin:20240717T180000
DTEND;TZID=Europe/Berlin:20240717T190000
DTSTAMP:20260422T071335
CREATED:20200609T114507Z
LAST-MODIFIED:20200609T114507Z
UID:14535-1721239200-1721242800@pilates4you.eu
SUMMARY:Pilates Mattenkurs Level 1-2 (max. 6 Teilnehmer)
DESCRIPTION:Für diejenigen\, die bereits einen Einsteiger-Kurs absolviert haben und mit Pilates-Training weitermachen wollen.
URL:https://pilates4you.eu/event/pilates-mattenkurs-level-1-2-max-6-teilnehmer/2024-07-17/
ATTACH;FMTTYPE=image/jpeg:https://pilates4you.eu/wp-content/uploads/2018/01/pilates4you_kursraum.jpg
END:VEVENT
BEGIN:VEVENT
DTSTART;TZID=Europe/Berlin:20240717T191500
DTEND;TZID=Europe/Berlin:20240717T211500
DTSTAMP:20260422T071335
CREATED:20200609T114626Z
LAST-MODIFIED:20200609T114626Z
UID:15000-1721243700-1721250900@pilates4you.eu
SUMMARY:Pilates Mattenkurs Level 2 (max. 6 Teilnehmer)
DESCRIPTION:Dieser Kurs richtet sich an diejenigen\, die mit der Pilates-Methode vertraut sind und das Training vertiefen wollen.
URL:https://pilates4you.eu/event/yoga-am-abend-max-6-teilnehmer/2024-07-17/
LOCATION:Hotel Achtermann\, Goslar\, Mauerstr. 39\, Goslar\, 38640
ATTACH;FMTTYPE=image/jpeg:https://pilates4you.eu/wp-content/uploads/2018/01/pilates4you_kursraum.jpg
GEO:51.9096145;10.4274822
X-APPLE-STRUCTURED-LOCATION;VALUE=URI;X-ADDRESS=Hotel Achtermann Goslar Mauerstr. 39 Goslar 38640;X-APPLE-RADIUS=500;X-TITLE=Mauerstr. 39:geo:10.4274822,51.9096145
END:VEVENT
BEGIN:VEVENT
DTSTART;TZID=Europe/Berlin:20240719T160000
DTEND;TZID=Europe/Berlin:20240719T170000
DTSTAMP:20260422T071335
CREATED:20200609T114932Z
LAST-MODIFIED:20200609T114932Z
UID:14539-1721404800-1721408400@pilates4you.eu
SUMMARY:Pilates Mattenkurs Level 2 (max. 6 Teilnehmer)
DESCRIPTION:Dieser Kurs richtet sich an diejenigen\, die mit der Pilates-Methode vertraut sind und das Training vertiefen wollen.
URL:https://pilates4you.eu/event/pilates-mattenkurs-level-2-max-6-teilnehmer/2024-07-19/
LOCATION:Hotel Achtermann\, Goslar\, Mauerstr. 39\, Goslar\, 38640
ATTACH;FMTTYPE=image/jpeg:https://pilates4you.eu/wp-content/uploads/2018/01/pilates4you_kursraum.jpg
GEO:51.9096145;10.4274822
X-APPLE-STRUCTURED-LOCATION;VALUE=URI;X-ADDRESS=Hotel Achtermann Goslar Mauerstr. 39 Goslar 38640;X-APPLE-RADIUS=500;X-TITLE=Mauerstr. 39:geo:10.4274822,51.9096145
END:VEVENT
BEGIN:VEVENT
DTSTART;TZID=Europe/Berlin:20240724T180000
DTEND;TZID=Europe/Berlin:20240724T190000
DTSTAMP:20260422T071335
CREATED:20200609T114507Z
LAST-MODIFIED:20200609T114507Z
UID:14553-1721844000-1721847600@pilates4you.eu
SUMMARY:Pilates Mattenkurs Level 1-2 (max. 6 Teilnehmer)
DESCRIPTION:Für diejenigen\, die bereits einen Einsteiger-Kurs absolviert haben und mit Pilates-Training weitermachen wollen.
URL:https://pilates4you.eu/event/pilates-mattenkurs-level-1-2-max-6-teilnehmer/2024-07-24/
ATTACH;FMTTYPE=image/jpeg:https://pilates4you.eu/wp-content/uploads/2018/01/pilates4you_kursraum.jpg
END:VEVENT
BEGIN:VEVENT
DTSTART;TZID=Europe/Berlin:20240724T191500
DTEND;TZID=Europe/Berlin:20240724T211500
DTSTAMP:20260422T071335
CREATED:20200609T114626Z
LAST-MODIFIED:20200609T114626Z
UID:15001-1721848500-1721855700@pilates4you.eu
SUMMARY:Pilates Mattenkurs Level 2 (max. 6 Teilnehmer)
DESCRIPTION:Dieser Kurs richtet sich an diejenigen\, die mit der Pilates-Methode vertraut sind und das Training vertiefen wollen.
URL:https://pilates4you.eu/event/yoga-am-abend-max-6-teilnehmer/2024-07-24/
LOCATION:Hotel Achtermann\, Goslar\, Mauerstr. 39\, Goslar\, 38640
ATTACH;FMTTYPE=image/jpeg:https://pilates4you.eu/wp-content/uploads/2018/01/pilates4you_kursraum.jpg
GEO:51.9096145;10.4274822
X-APPLE-STRUCTURED-LOCATION;VALUE=URI;X-ADDRESS=Hotel Achtermann Goslar Mauerstr. 39 Goslar 38640;X-APPLE-RADIUS=500;X-TITLE=Mauerstr. 39:geo:10.4274822,51.9096145
END:VEVENT
BEGIN:VEVENT
DTSTART;TZID=Europe/Berlin:20240726T160000
DTEND;TZID=Europe/Berlin:20240726T170000
DTSTAMP:20260422T071335
CREATED:20200609T114932Z
LAST-MODIFIED:20200609T114932Z
UID:14557-1722009600-1722013200@pilates4you.eu
SUMMARY:Pilates Mattenkurs Level 2 (max. 6 Teilnehmer)
DESCRIPTION:Dieser Kurs richtet sich an diejenigen\, die mit der Pilates-Methode vertraut sind und das Training vertiefen wollen.
URL:https://pilates4you.eu/event/pilates-mattenkurs-level-2-max-6-teilnehmer/2024-07-26/
LOCATION:Hotel Achtermann\, Goslar\, Mauerstr. 39\, Goslar\, 38640
ATTACH;FMTTYPE=image/jpeg:https://pilates4you.eu/wp-content/uploads/2018/01/pilates4you_kursraum.jpg
GEO:51.9096145;10.4274822
X-APPLE-STRUCTURED-LOCATION;VALUE=URI;X-ADDRESS=Hotel Achtermann Goslar Mauerstr. 39 Goslar 38640;X-APPLE-RADIUS=500;X-TITLE=Mauerstr. 39:geo:10.4274822,51.9096145
END:VEVENT
BEGIN:VEVENT
DTSTART;TZID=Europe/Berlin:20240731T180000
DTEND;TZID=Europe/Berlin:20240731T190000
DTSTAMP:20260422T071335
CREATED:20200609T114507Z
LAST-MODIFIED:20200609T114507Z
UID:14566-1722448800-1722452400@pilates4you.eu
SUMMARY:Pilates Mattenkurs Level 1-2 (max. 6 Teilnehmer)
DESCRIPTION:Für diejenigen\, die bereits einen Einsteiger-Kurs absolviert haben und mit Pilates-Training weitermachen wollen.
URL:https://pilates4you.eu/event/pilates-mattenkurs-level-1-2-max-6-teilnehmer/2024-07-31/
ATTACH;FMTTYPE=image/jpeg:https://pilates4you.eu/wp-content/uploads/2018/01/pilates4you_kursraum.jpg
END:VEVENT
BEGIN:VEVENT
DTSTART;TZID=Europe/Berlin:20240731T191500
DTEND;TZID=Europe/Berlin:20240731T211500
DTSTAMP:20260422T071335
CREATED:20200609T114626Z
LAST-MODIFIED:20200609T114626Z
UID:15002-1722453300-1722460500@pilates4you.eu
SUMMARY:Pilates Mattenkurs Level 2 (max. 6 Teilnehmer)
DESCRIPTION:Dieser Kurs richtet sich an diejenigen\, die mit der Pilates-Methode vertraut sind und das Training vertiefen wollen.
URL:https://pilates4you.eu/event/yoga-am-abend-max-6-teilnehmer/2024-07-31/
LOCATION:Hotel Achtermann\, Goslar\, Mauerstr. 39\, Goslar\, 38640
ATTACH;FMTTYPE=image/jpeg:https://pilates4you.eu/wp-content/uploads/2018/01/pilates4you_kursraum.jpg
GEO:51.9096145;10.4274822
X-APPLE-STRUCTURED-LOCATION;VALUE=URI;X-ADDRESS=Hotel Achtermann Goslar Mauerstr. 39 Goslar 38640;X-APPLE-RADIUS=500;X-TITLE=Mauerstr. 39:geo:10.4274822,51.9096145
END:VEVENT
END:VCALENDAR