BEGIN:VCALENDAR
VERSION:2.0
PRODID:-//PILATES4you - ECPv6.15.20//NONSGML v1.0//EN
CALSCALE:GREGORIAN
METHOD:PUBLISH
X-ORIGINAL-URL:https://pilates4you.eu
X-WR-CALDESC:Veranstaltungen für PILATES4you
REFRESH-INTERVAL;VALUE=DURATION:PT1H
X-Robots-Tag:noindex
X-PUBLISHED-TTL:PT1H
BEGIN:VTIMEZONE
TZID:Europe/Berlin
BEGIN:DAYLIGHT
TZOFFSETFROM:+0100
TZOFFSETTO:+0200
TZNAME:CEST
DTSTART:20230326T010000
END:DAYLIGHT
BEGIN:STANDARD
TZOFFSETFROM:+0200
TZOFFSETTO:+0100
TZNAME:CET
DTSTART:20231029T010000
END:STANDARD
BEGIN:DAYLIGHT
TZOFFSETFROM:+0100
TZOFFSETTO:+0200
TZNAME:CEST
DTSTART:20240331T010000
END:DAYLIGHT
BEGIN:STANDARD
TZOFFSETFROM:+0200
TZOFFSETTO:+0100
TZNAME:CET
DTSTART:20241027T010000
END:STANDARD
BEGIN:DAYLIGHT
TZOFFSETFROM:+0100
TZOFFSETTO:+0200
TZNAME:CEST
DTSTART:20250330T010000
END:DAYLIGHT
BEGIN:STANDARD
TZOFFSETFROM:+0200
TZOFFSETTO:+0100
TZNAME:CET
DTSTART:20251026T010000
END:STANDARD
END:VTIMEZONE
BEGIN:VEVENT
DTSTART;TZID=Europe/Berlin:20240501T180000
DTEND;TZID=Europe/Berlin:20240501T190000
DTSTAMP:20260425T164058
CREATED:20200609T114507Z
LAST-MODIFIED:20200609T114507Z
UID:14413-1714586400-1714590000@pilates4you.eu
SUMMARY:Pilates Mattenkurs Level 1-2 (max. 6 Teilnehmer)
DESCRIPTION:Für diejenigen\, die bereits einen Einsteiger-Kurs absolviert haben und mit Pilates-Training weitermachen wollen.
URL:https://pilates4you.eu/event/pilates-mattenkurs-level-1-2-max-6-teilnehmer/2024-05-01/
ATTACH;FMTTYPE=image/jpeg:https://pilates4you.eu/wp-content/uploads/2018/01/pilates4you_kursraum.jpg
END:VEVENT
BEGIN:VEVENT
DTSTART;TZID=Europe/Berlin:20240501T191500
DTEND;TZID=Europe/Berlin:20240501T211500
DTSTAMP:20260425T164058
CREATED:20200609T114626Z
LAST-MODIFIED:20200609T114626Z
UID:14989-1714590900-1714598100@pilates4you.eu
SUMMARY:Pilates Mattenkurs Level 2 (max. 6 Teilnehmer)
DESCRIPTION:Dieser Kurs richtet sich an diejenigen\, die mit der Pilates-Methode vertraut sind und das Training vertiefen wollen.
URL:https://pilates4you.eu/event/yoga-am-abend-max-6-teilnehmer/2024-05-01/
LOCATION:Hotel Achtermann\, Goslar\, Mauerstr. 39\, Goslar\, 38640
ATTACH;FMTTYPE=image/jpeg:https://pilates4you.eu/wp-content/uploads/2018/01/pilates4you_kursraum.jpg
GEO:51.9096145;10.4274822
X-APPLE-STRUCTURED-LOCATION;VALUE=URI;X-ADDRESS=Hotel Achtermann Goslar Mauerstr. 39 Goslar 38640;X-APPLE-RADIUS=500;X-TITLE=Mauerstr. 39:geo:10.4274822,51.9096145
END:VEVENT
BEGIN:VEVENT
DTSTART;TZID=Europe/Berlin:20240503T160000
DTEND;TZID=Europe/Berlin:20240503T170000
DTSTAMP:20260425T164058
CREATED:20200609T114932Z
LAST-MODIFIED:20200609T114932Z
UID:14416-1714752000-1714755600@pilates4you.eu
SUMMARY:Pilates Mattenkurs Level 2 (max. 6 Teilnehmer)
DESCRIPTION:Dieser Kurs richtet sich an diejenigen\, die mit der Pilates-Methode vertraut sind und das Training vertiefen wollen.
URL:https://pilates4you.eu/event/pilates-mattenkurs-level-2-max-6-teilnehmer/2024-05-03/
LOCATION:Hotel Achtermann\, Goslar\, Mauerstr. 39\, Goslar\, 38640
ATTACH;FMTTYPE=image/jpeg:https://pilates4you.eu/wp-content/uploads/2018/01/pilates4you_kursraum.jpg
GEO:51.9096145;10.4274822
X-APPLE-STRUCTURED-LOCATION;VALUE=URI;X-ADDRESS=Hotel Achtermann Goslar Mauerstr. 39 Goslar 38640;X-APPLE-RADIUS=500;X-TITLE=Mauerstr. 39:geo:10.4274822,51.9096145
END:VEVENT
BEGIN:VEVENT
DTSTART;TZID=Europe/Berlin:20240508T180000
DTEND;TZID=Europe/Berlin:20240508T190000
DTSTAMP:20260425T164058
CREATED:20200609T114507Z
LAST-MODIFIED:20200609T114507Z
UID:14420-1715191200-1715194800@pilates4you.eu
SUMMARY:Pilates Mattenkurs Level 1-2 (max. 6 Teilnehmer)
DESCRIPTION:Für diejenigen\, die bereits einen Einsteiger-Kurs absolviert haben und mit Pilates-Training weitermachen wollen.
URL:https://pilates4you.eu/event/pilates-mattenkurs-level-1-2-max-6-teilnehmer/2024-05-08/
ATTACH;FMTTYPE=image/jpeg:https://pilates4you.eu/wp-content/uploads/2018/01/pilates4you_kursraum.jpg
END:VEVENT
BEGIN:VEVENT
DTSTART;TZID=Europe/Berlin:20240508T191500
DTEND;TZID=Europe/Berlin:20240508T211500
DTSTAMP:20260425T164058
CREATED:20200609T114626Z
LAST-MODIFIED:20200609T114626Z
UID:14990-1715195700-1715202900@pilates4you.eu
SUMMARY:Pilates Mattenkurs Level 2 (max. 6 Teilnehmer)
DESCRIPTION:Dieser Kurs richtet sich an diejenigen\, die mit der Pilates-Methode vertraut sind und das Training vertiefen wollen.
URL:https://pilates4you.eu/event/yoga-am-abend-max-6-teilnehmer/2024-05-08/
LOCATION:Hotel Achtermann\, Goslar\, Mauerstr. 39\, Goslar\, 38640
ATTACH;FMTTYPE=image/jpeg:https://pilates4you.eu/wp-content/uploads/2018/01/pilates4you_kursraum.jpg
GEO:51.9096145;10.4274822
X-APPLE-STRUCTURED-LOCATION;VALUE=URI;X-ADDRESS=Hotel Achtermann Goslar Mauerstr. 39 Goslar 38640;X-APPLE-RADIUS=500;X-TITLE=Mauerstr. 39:geo:10.4274822,51.9096145
END:VEVENT
BEGIN:VEVENT
DTSTART;TZID=Europe/Berlin:20240510T160000
DTEND;TZID=Europe/Berlin:20240510T170000
DTSTAMP:20260425T164058
CREATED:20200609T114932Z
LAST-MODIFIED:20200609T114932Z
UID:14424-1715356800-1715360400@pilates4you.eu
SUMMARY:Pilates Mattenkurs Level 2 (max. 6 Teilnehmer)
DESCRIPTION:Dieser Kurs richtet sich an diejenigen\, die mit der Pilates-Methode vertraut sind und das Training vertiefen wollen.
URL:https://pilates4you.eu/event/pilates-mattenkurs-level-2-max-6-teilnehmer/2024-05-10/
LOCATION:Hotel Achtermann\, Goslar\, Mauerstr. 39\, Goslar\, 38640
ATTACH;FMTTYPE=image/jpeg:https://pilates4you.eu/wp-content/uploads/2018/01/pilates4you_kursraum.jpg
GEO:51.9096145;10.4274822
X-APPLE-STRUCTURED-LOCATION;VALUE=URI;X-ADDRESS=Hotel Achtermann Goslar Mauerstr. 39 Goslar 38640;X-APPLE-RADIUS=500;X-TITLE=Mauerstr. 39:geo:10.4274822,51.9096145
END:VEVENT
BEGIN:VEVENT
DTSTART;TZID=Europe/Berlin:20240515T180000
DTEND;TZID=Europe/Berlin:20240515T190000
DTSTAMP:20260425T164058
CREATED:20200609T114507Z
LAST-MODIFIED:20200609T114507Z
UID:14427-1715796000-1715799600@pilates4you.eu
SUMMARY:Pilates Mattenkurs Level 1-2 (max. 6 Teilnehmer)
DESCRIPTION:Für diejenigen\, die bereits einen Einsteiger-Kurs absolviert haben und mit Pilates-Training weitermachen wollen.
URL:https://pilates4you.eu/event/pilates-mattenkurs-level-1-2-max-6-teilnehmer/2024-05-15/
ATTACH;FMTTYPE=image/jpeg:https://pilates4you.eu/wp-content/uploads/2018/01/pilates4you_kursraum.jpg
END:VEVENT
BEGIN:VEVENT
DTSTART;TZID=Europe/Berlin:20240515T191500
DTEND;TZID=Europe/Berlin:20240515T211500
DTSTAMP:20260425T164058
CREATED:20200609T114626Z
LAST-MODIFIED:20200609T114626Z
UID:14991-1715800500-1715807700@pilates4you.eu
SUMMARY:Pilates Mattenkurs Level 2 (max. 6 Teilnehmer)
DESCRIPTION:Dieser Kurs richtet sich an diejenigen\, die mit der Pilates-Methode vertraut sind und das Training vertiefen wollen.
URL:https://pilates4you.eu/event/yoga-am-abend-max-6-teilnehmer/2024-05-15/
LOCATION:Hotel Achtermann\, Goslar\, Mauerstr. 39\, Goslar\, 38640
ATTACH;FMTTYPE=image/jpeg:https://pilates4you.eu/wp-content/uploads/2018/01/pilates4you_kursraum.jpg
GEO:51.9096145;10.4274822
X-APPLE-STRUCTURED-LOCATION;VALUE=URI;X-ADDRESS=Hotel Achtermann Goslar Mauerstr. 39 Goslar 38640;X-APPLE-RADIUS=500;X-TITLE=Mauerstr. 39:geo:10.4274822,51.9096145
END:VEVENT
BEGIN:VEVENT
DTSTART;TZID=Europe/Berlin:20240517T160000
DTEND;TZID=Europe/Berlin:20240517T170000
DTSTAMP:20260425T164058
CREATED:20200609T114932Z
LAST-MODIFIED:20200609T114932Z
UID:14431-1715961600-1715965200@pilates4you.eu
SUMMARY:Pilates Mattenkurs Level 2 (max. 6 Teilnehmer)
DESCRIPTION:Dieser Kurs richtet sich an diejenigen\, die mit der Pilates-Methode vertraut sind und das Training vertiefen wollen.
URL:https://pilates4you.eu/event/pilates-mattenkurs-level-2-max-6-teilnehmer/2024-05-17/
LOCATION:Hotel Achtermann\, Goslar\, Mauerstr. 39\, Goslar\, 38640
ATTACH;FMTTYPE=image/jpeg:https://pilates4you.eu/wp-content/uploads/2018/01/pilates4you_kursraum.jpg
GEO:51.9096145;10.4274822
X-APPLE-STRUCTURED-LOCATION;VALUE=URI;X-ADDRESS=Hotel Achtermann Goslar Mauerstr. 39 Goslar 38640;X-APPLE-RADIUS=500;X-TITLE=Mauerstr. 39:geo:10.4274822,51.9096145
END:VEVENT
BEGIN:VEVENT
DTSTART;TZID=Europe/Berlin:20240522T180000
DTEND;TZID=Europe/Berlin:20240522T190000
DTSTAMP:20260425T164058
CREATED:20200609T114507Z
LAST-MODIFIED:20200609T114507Z
UID:14442-1716400800-1716404400@pilates4you.eu
SUMMARY:Pilates Mattenkurs Level 1-2 (max. 6 Teilnehmer)
DESCRIPTION:Für diejenigen\, die bereits einen Einsteiger-Kurs absolviert haben und mit Pilates-Training weitermachen wollen.
URL:https://pilates4you.eu/event/pilates-mattenkurs-level-1-2-max-6-teilnehmer/2024-05-22/
ATTACH;FMTTYPE=image/jpeg:https://pilates4you.eu/wp-content/uploads/2018/01/pilates4you_kursraum.jpg
END:VEVENT
BEGIN:VEVENT
DTSTART;TZID=Europe/Berlin:20240522T191500
DTEND;TZID=Europe/Berlin:20240522T211500
DTSTAMP:20260425T164058
CREATED:20200609T114626Z
LAST-MODIFIED:20200609T114626Z
UID:14992-1716405300-1716412500@pilates4you.eu
SUMMARY:Pilates Mattenkurs Level 2 (max. 6 Teilnehmer)
DESCRIPTION:Dieser Kurs richtet sich an diejenigen\, die mit der Pilates-Methode vertraut sind und das Training vertiefen wollen.
URL:https://pilates4you.eu/event/yoga-am-abend-max-6-teilnehmer/2024-05-22/
LOCATION:Hotel Achtermann\, Goslar\, Mauerstr. 39\, Goslar\, 38640
ATTACH;FMTTYPE=image/jpeg:https://pilates4you.eu/wp-content/uploads/2018/01/pilates4you_kursraum.jpg
GEO:51.9096145;10.4274822
X-APPLE-STRUCTURED-LOCATION;VALUE=URI;X-ADDRESS=Hotel Achtermann Goslar Mauerstr. 39 Goslar 38640;X-APPLE-RADIUS=500;X-TITLE=Mauerstr. 39:geo:10.4274822,51.9096145
END:VEVENT
BEGIN:VEVENT
DTSTART;TZID=Europe/Berlin:20240524T160000
DTEND;TZID=Europe/Berlin:20240524T170000
DTSTAMP:20260425T164058
CREATED:20200609T114932Z
LAST-MODIFIED:20200609T114932Z
UID:14445-1716566400-1716570000@pilates4you.eu
SUMMARY:Pilates Mattenkurs Level 2 (max. 6 Teilnehmer)
DESCRIPTION:Dieser Kurs richtet sich an diejenigen\, die mit der Pilates-Methode vertraut sind und das Training vertiefen wollen.
URL:https://pilates4you.eu/event/pilates-mattenkurs-level-2-max-6-teilnehmer/2024-05-24/
LOCATION:Hotel Achtermann\, Goslar\, Mauerstr. 39\, Goslar\, 38640
ATTACH;FMTTYPE=image/jpeg:https://pilates4you.eu/wp-content/uploads/2018/01/pilates4you_kursraum.jpg
GEO:51.9096145;10.4274822
X-APPLE-STRUCTURED-LOCATION;VALUE=URI;X-ADDRESS=Hotel Achtermann Goslar Mauerstr. 39 Goslar 38640;X-APPLE-RADIUS=500;X-TITLE=Mauerstr. 39:geo:10.4274822,51.9096145
END:VEVENT
BEGIN:VEVENT
DTSTART;TZID=Europe/Berlin:20240529T180000
DTEND;TZID=Europe/Berlin:20240529T190000
DTSTAMP:20260425T164058
CREATED:20200609T114507Z
LAST-MODIFIED:20200609T114507Z
UID:14449-1717005600-1717009200@pilates4you.eu
SUMMARY:Pilates Mattenkurs Level 1-2 (max. 6 Teilnehmer)
DESCRIPTION:Für diejenigen\, die bereits einen Einsteiger-Kurs absolviert haben und mit Pilates-Training weitermachen wollen.
URL:https://pilates4you.eu/event/pilates-mattenkurs-level-1-2-max-6-teilnehmer/2024-05-29/
ATTACH;FMTTYPE=image/jpeg:https://pilates4you.eu/wp-content/uploads/2018/01/pilates4you_kursraum.jpg
END:VEVENT
BEGIN:VEVENT
DTSTART;TZID=Europe/Berlin:20240529T191500
DTEND;TZID=Europe/Berlin:20240529T211500
DTSTAMP:20260425T164058
CREATED:20200609T114626Z
LAST-MODIFIED:20200609T114626Z
UID:14993-1717010100-1717017300@pilates4you.eu
SUMMARY:Pilates Mattenkurs Level 2 (max. 6 Teilnehmer)
DESCRIPTION:Dieser Kurs richtet sich an diejenigen\, die mit der Pilates-Methode vertraut sind und das Training vertiefen wollen.
URL:https://pilates4you.eu/event/yoga-am-abend-max-6-teilnehmer/2024-05-29/
LOCATION:Hotel Achtermann\, Goslar\, Mauerstr. 39\, Goslar\, 38640
ATTACH;FMTTYPE=image/jpeg:https://pilates4you.eu/wp-content/uploads/2018/01/pilates4you_kursraum.jpg
GEO:51.9096145;10.4274822
X-APPLE-STRUCTURED-LOCATION;VALUE=URI;X-ADDRESS=Hotel Achtermann Goslar Mauerstr. 39 Goslar 38640;X-APPLE-RADIUS=500;X-TITLE=Mauerstr. 39:geo:10.4274822,51.9096145
END:VEVENT
BEGIN:VEVENT
DTSTART;TZID=Europe/Berlin:20240531T160000
DTEND;TZID=Europe/Berlin:20240531T170000
DTSTAMP:20260425T164058
CREATED:20200609T114932Z
LAST-MODIFIED:20200609T114932Z
UID:14461-1717171200-1717174800@pilates4you.eu
SUMMARY:Pilates Mattenkurs Level 2 (max. 6 Teilnehmer)
DESCRIPTION:Dieser Kurs richtet sich an diejenigen\, die mit der Pilates-Methode vertraut sind und das Training vertiefen wollen.
URL:https://pilates4you.eu/event/pilates-mattenkurs-level-2-max-6-teilnehmer/2024-05-31/
LOCATION:Hotel Achtermann\, Goslar\, Mauerstr. 39\, Goslar\, 38640
ATTACH;FMTTYPE=image/jpeg:https://pilates4you.eu/wp-content/uploads/2018/01/pilates4you_kursraum.jpg
GEO:51.9096145;10.4274822
X-APPLE-STRUCTURED-LOCATION;VALUE=URI;X-ADDRESS=Hotel Achtermann Goslar Mauerstr. 39 Goslar 38640;X-APPLE-RADIUS=500;X-TITLE=Mauerstr. 39:geo:10.4274822,51.9096145
END:VEVENT
END:VCALENDAR