BEGIN:VCALENDAR
VERSION:2.0
PRODID:-//PILATES4you - ECPv6.15.20//NONSGML v1.0//EN
CALSCALE:GREGORIAN
METHOD:PUBLISH
X-ORIGINAL-URL:https://pilates4you.eu
X-WR-CALDESC:Veranstaltungen für PILATES4you
REFRESH-INTERVAL;VALUE=DURATION:PT1H
X-Robots-Tag:noindex
X-PUBLISHED-TTL:PT1H
BEGIN:VTIMEZONE
TZID:Europe/Berlin
BEGIN:DAYLIGHT
TZOFFSETFROM:+0100
TZOFFSETTO:+0200
TZNAME:CEST
DTSTART:20250330T010000
END:DAYLIGHT
BEGIN:STANDARD
TZOFFSETFROM:+0200
TZOFFSETTO:+0100
TZNAME:CET
DTSTART:20251026T010000
END:STANDARD
BEGIN:DAYLIGHT
TZOFFSETFROM:+0100
TZOFFSETTO:+0200
TZNAME:CEST
DTSTART:20260329T010000
END:DAYLIGHT
BEGIN:STANDARD
TZOFFSETFROM:+0200
TZOFFSETTO:+0100
TZNAME:CET
DTSTART:20261025T010000
END:STANDARD
BEGIN:DAYLIGHT
TZOFFSETFROM:+0100
TZOFFSETTO:+0200
TZNAME:CEST
DTSTART:20270328T010000
END:DAYLIGHT
BEGIN:STANDARD
TZOFFSETFROM:+0200
TZOFFSETTO:+0100
TZNAME:CET
DTSTART:20271031T010000
END:STANDARD
END:VTIMEZONE
BEGIN:VEVENT
DTSTART;TZID=Europe/Berlin:20260520T191500
DTEND;TZID=Europe/Berlin:20260520T211500
DTSTAMP:20260426T022700
CREATED:20200609T114626Z
LAST-MODIFIED:20200609T114626Z
UID:16249-1779304500-1779311700@pilates4you.eu
SUMMARY:Pilates Mattenkurs Level 2 (max. 6 Teilnehmer)
DESCRIPTION:Dieser Kurs richtet sich an diejenigen\, die mit der Pilates-Methode vertraut sind und das Training vertiefen wollen.
URL:https://pilates4you.eu/event/yoga-am-abend-max-6-teilnehmer/2026-05-20/
LOCATION:Hotel Achtermann\, Goslar\, Mauerstr. 39\, Goslar\, 38640
ATTACH;FMTTYPE=image/jpeg:https://pilates4you.eu/wp-content/uploads/2018/01/pilates4you_kursraum.jpg
GEO:51.9096145;10.4274822
X-APPLE-STRUCTURED-LOCATION;VALUE=URI;X-ADDRESS=Hotel Achtermann Goslar Mauerstr. 39 Goslar 38640;X-APPLE-RADIUS=500;X-TITLE=Mauerstr. 39:geo:10.4274822,51.9096145
END:VEVENT
BEGIN:VEVENT
DTSTART;TZID=Europe/Berlin:20260522T160000
DTEND;TZID=Europe/Berlin:20260522T170000
DTSTAMP:20260426T022700
CREATED:20200609T114932Z
LAST-MODIFIED:20200609T114932Z
UID:16251-1779465600-1779469200@pilates4you.eu
SUMMARY:Pilates Mattenkurs Level 2 (max. 6 Teilnehmer)
DESCRIPTION:Dieser Kurs richtet sich an diejenigen\, die mit der Pilates-Methode vertraut sind und das Training vertiefen wollen.
URL:https://pilates4you.eu/event/pilates-mattenkurs-level-2-max-6-teilnehmer/2026-05-22/
LOCATION:Hotel Achtermann\, Goslar\, Mauerstr. 39\, Goslar\, 38640
ATTACH;FMTTYPE=image/jpeg:https://pilates4you.eu/wp-content/uploads/2018/01/pilates4you_kursraum.jpg
GEO:51.9096145;10.4274822
X-APPLE-STRUCTURED-LOCATION;VALUE=URI;X-ADDRESS=Hotel Achtermann Goslar Mauerstr. 39 Goslar 38640;X-APPLE-RADIUS=500;X-TITLE=Mauerstr. 39:geo:10.4274822,51.9096145
END:VEVENT
BEGIN:VEVENT
DTSTART;TZID=Europe/Berlin:20260527T180000
DTEND;TZID=Europe/Berlin:20260527T190000
DTSTAMP:20260426T022700
CREATED:20200609T114507Z
LAST-MODIFIED:20200609T114507Z
UID:16255-1779904800-1779908400@pilates4you.eu
SUMMARY:Pilates Mattenkurs Level 1-2 (max. 6 Teilnehmer)
DESCRIPTION:Für diejenigen\, die bereits einen Einsteiger-Kurs absolviert haben und mit Pilates-Training weitermachen wollen.
URL:https://pilates4you.eu/event/pilates-mattenkurs-level-1-2-max-6-teilnehmer/2026-05-27/
ATTACH;FMTTYPE=image/jpeg:https://pilates4you.eu/wp-content/uploads/2018/01/pilates4you_kursraum.jpg
END:VEVENT
BEGIN:VEVENT
DTSTART;TZID=Europe/Berlin:20260527T191500
DTEND;TZID=Europe/Berlin:20260527T211500
DTSTAMP:20260426T022700
CREATED:20200609T114626Z
LAST-MODIFIED:20200609T114626Z
UID:16256-1779909300-1779916500@pilates4you.eu
SUMMARY:Pilates Mattenkurs Level 2 (max. 6 Teilnehmer)
DESCRIPTION:Dieser Kurs richtet sich an diejenigen\, die mit der Pilates-Methode vertraut sind und das Training vertiefen wollen.
URL:https://pilates4you.eu/event/yoga-am-abend-max-6-teilnehmer/2026-05-27/
LOCATION:Hotel Achtermann\, Goslar\, Mauerstr. 39\, Goslar\, 38640
ATTACH;FMTTYPE=image/jpeg:https://pilates4you.eu/wp-content/uploads/2018/01/pilates4you_kursraum.jpg
GEO:51.9096145;10.4274822
X-APPLE-STRUCTURED-LOCATION;VALUE=URI;X-ADDRESS=Hotel Achtermann Goslar Mauerstr. 39 Goslar 38640;X-APPLE-RADIUS=500;X-TITLE=Mauerstr. 39:geo:10.4274822,51.9096145
END:VEVENT
BEGIN:VEVENT
DTSTART;TZID=Europe/Berlin:20260529T160000
DTEND;TZID=Europe/Berlin:20260529T170000
DTSTAMP:20260426T022700
CREATED:20200609T114932Z
LAST-MODIFIED:20200609T114932Z
UID:16258-1780070400-1780074000@pilates4you.eu
SUMMARY:Pilates Mattenkurs Level 2 (max. 6 Teilnehmer)
DESCRIPTION:Dieser Kurs richtet sich an diejenigen\, die mit der Pilates-Methode vertraut sind und das Training vertiefen wollen.
URL:https://pilates4you.eu/event/pilates-mattenkurs-level-2-max-6-teilnehmer/2026-05-29/
LOCATION:Hotel Achtermann\, Goslar\, Mauerstr. 39\, Goslar\, 38640
ATTACH;FMTTYPE=image/jpeg:https://pilates4you.eu/wp-content/uploads/2018/01/pilates4you_kursraum.jpg
GEO:51.9096145;10.4274822
X-APPLE-STRUCTURED-LOCATION;VALUE=URI;X-ADDRESS=Hotel Achtermann Goslar Mauerstr. 39 Goslar 38640;X-APPLE-RADIUS=500;X-TITLE=Mauerstr. 39:geo:10.4274822,51.9096145
END:VEVENT
BEGIN:VEVENT
DTSTART;TZID=Europe/Berlin:20260603T180000
DTEND;TZID=Europe/Berlin:20260603T190000
DTSTAMP:20260426T022700
CREATED:20200609T114507Z
LAST-MODIFIED:20200609T114507Z
UID:16279-1780509600-1780513200@pilates4you.eu
SUMMARY:Pilates Mattenkurs Level 1-2 (max. 6 Teilnehmer)
DESCRIPTION:Für diejenigen\, die bereits einen Einsteiger-Kurs absolviert haben und mit Pilates-Training weitermachen wollen.
URL:https://pilates4you.eu/event/pilates-mattenkurs-level-1-2-max-6-teilnehmer/2026-06-03/
ATTACH;FMTTYPE=image/jpeg:https://pilates4you.eu/wp-content/uploads/2018/01/pilates4you_kursraum.jpg
END:VEVENT
BEGIN:VEVENT
DTSTART;TZID=Europe/Berlin:20260603T191500
DTEND;TZID=Europe/Berlin:20260603T211500
DTSTAMP:20260426T022700
CREATED:20200609T114626Z
LAST-MODIFIED:20200609T114626Z
UID:16280-1780514100-1780521300@pilates4you.eu
SUMMARY:Pilates Mattenkurs Level 2 (max. 6 Teilnehmer)
DESCRIPTION:Dieser Kurs richtet sich an diejenigen\, die mit der Pilates-Methode vertraut sind und das Training vertiefen wollen.
URL:https://pilates4you.eu/event/yoga-am-abend-max-6-teilnehmer/2026-06-03/
LOCATION:Hotel Achtermann\, Goslar\, Mauerstr. 39\, Goslar\, 38640
ATTACH;FMTTYPE=image/jpeg:https://pilates4you.eu/wp-content/uploads/2018/01/pilates4you_kursraum.jpg
GEO:51.9096145;10.4274822
X-APPLE-STRUCTURED-LOCATION;VALUE=URI;X-ADDRESS=Hotel Achtermann Goslar Mauerstr. 39 Goslar 38640;X-APPLE-RADIUS=500;X-TITLE=Mauerstr. 39:geo:10.4274822,51.9096145
END:VEVENT
BEGIN:VEVENT
DTSTART;TZID=Europe/Berlin:20260605T160000
DTEND;TZID=Europe/Berlin:20260605T170000
DTSTAMP:20260426T022700
CREATED:20200609T114932Z
LAST-MODIFIED:20200609T114932Z
UID:16284-1780675200-1780678800@pilates4you.eu
SUMMARY:Pilates Mattenkurs Level 2 (max. 6 Teilnehmer)
DESCRIPTION:Dieser Kurs richtet sich an diejenigen\, die mit der Pilates-Methode vertraut sind und das Training vertiefen wollen.
URL:https://pilates4you.eu/event/pilates-mattenkurs-level-2-max-6-teilnehmer/2026-06-05/
LOCATION:Hotel Achtermann\, Goslar\, Mauerstr. 39\, Goslar\, 38640
ATTACH;FMTTYPE=image/jpeg:https://pilates4you.eu/wp-content/uploads/2018/01/pilates4you_kursraum.jpg
GEO:51.9096145;10.4274822
X-APPLE-STRUCTURED-LOCATION;VALUE=URI;X-ADDRESS=Hotel Achtermann Goslar Mauerstr. 39 Goslar 38640;X-APPLE-RADIUS=500;X-TITLE=Mauerstr. 39:geo:10.4274822,51.9096145
END:VEVENT
BEGIN:VEVENT
DTSTART;TZID=Europe/Berlin:20260610T180000
DTEND;TZID=Europe/Berlin:20260610T190000
DTSTAMP:20260426T022700
CREATED:20200609T114507Z
LAST-MODIFIED:20200609T114507Z
UID:16290-1781114400-1781118000@pilates4you.eu
SUMMARY:Pilates Mattenkurs Level 1-2 (max. 6 Teilnehmer)
DESCRIPTION:Für diejenigen\, die bereits einen Einsteiger-Kurs absolviert haben und mit Pilates-Training weitermachen wollen.
URL:https://pilates4you.eu/event/pilates-mattenkurs-level-1-2-max-6-teilnehmer/2026-06-10/
ATTACH;FMTTYPE=image/jpeg:https://pilates4you.eu/wp-content/uploads/2018/01/pilates4you_kursraum.jpg
END:VEVENT
BEGIN:VEVENT
DTSTART;TZID=Europe/Berlin:20260610T191500
DTEND;TZID=Europe/Berlin:20260610T211500
DTSTAMP:20260426T022700
CREATED:20200609T114626Z
LAST-MODIFIED:20200609T114626Z
UID:16291-1781118900-1781126100@pilates4you.eu
SUMMARY:Pilates Mattenkurs Level 2 (max. 6 Teilnehmer)
DESCRIPTION:Dieser Kurs richtet sich an diejenigen\, die mit der Pilates-Methode vertraut sind und das Training vertiefen wollen.
URL:https://pilates4you.eu/event/yoga-am-abend-max-6-teilnehmer/2026-06-10/
LOCATION:Hotel Achtermann\, Goslar\, Mauerstr. 39\, Goslar\, 38640
ATTACH;FMTTYPE=image/jpeg:https://pilates4you.eu/wp-content/uploads/2018/01/pilates4you_kursraum.jpg
GEO:51.9096145;10.4274822
X-APPLE-STRUCTURED-LOCATION;VALUE=URI;X-ADDRESS=Hotel Achtermann Goslar Mauerstr. 39 Goslar 38640;X-APPLE-RADIUS=500;X-TITLE=Mauerstr. 39:geo:10.4274822,51.9096145
END:VEVENT
BEGIN:VEVENT
DTSTART;TZID=Europe/Berlin:20260612T160000
DTEND;TZID=Europe/Berlin:20260612T170000
DTSTAMP:20260426T022700
CREATED:20200609T114932Z
LAST-MODIFIED:20200609T114932Z
UID:16293-1781280000-1781283600@pilates4you.eu
SUMMARY:Pilates Mattenkurs Level 2 (max. 6 Teilnehmer)
DESCRIPTION:Dieser Kurs richtet sich an diejenigen\, die mit der Pilates-Methode vertraut sind und das Training vertiefen wollen.
URL:https://pilates4you.eu/event/pilates-mattenkurs-level-2-max-6-teilnehmer/2026-06-12/
LOCATION:Hotel Achtermann\, Goslar\, Mauerstr. 39\, Goslar\, 38640
ATTACH;FMTTYPE=image/jpeg:https://pilates4you.eu/wp-content/uploads/2018/01/pilates4you_kursraum.jpg
GEO:51.9096145;10.4274822
X-APPLE-STRUCTURED-LOCATION;VALUE=URI;X-ADDRESS=Hotel Achtermann Goslar Mauerstr. 39 Goslar 38640;X-APPLE-RADIUS=500;X-TITLE=Mauerstr. 39:geo:10.4274822,51.9096145
END:VEVENT
BEGIN:VEVENT
DTSTART;TZID=Europe/Berlin:20260617T180000
DTEND;TZID=Europe/Berlin:20260617T190000
DTSTAMP:20260426T022700
CREATED:20200609T114507Z
LAST-MODIFIED:20200609T114507Z
UID:16297-1781719200-1781722800@pilates4you.eu
SUMMARY:Pilates Mattenkurs Level 1-2 (max. 6 Teilnehmer)
DESCRIPTION:Für diejenigen\, die bereits einen Einsteiger-Kurs absolviert haben und mit Pilates-Training weitermachen wollen.
URL:https://pilates4you.eu/event/pilates-mattenkurs-level-1-2-max-6-teilnehmer/2026-06-17/
ATTACH;FMTTYPE=image/jpeg:https://pilates4you.eu/wp-content/uploads/2018/01/pilates4you_kursraum.jpg
END:VEVENT
BEGIN:VEVENT
DTSTART;TZID=Europe/Berlin:20260617T191500
DTEND;TZID=Europe/Berlin:20260617T211500
DTSTAMP:20260426T022700
CREATED:20200609T114626Z
LAST-MODIFIED:20200609T114626Z
UID:16298-1781723700-1781730900@pilates4you.eu
SUMMARY:Pilates Mattenkurs Level 2 (max. 6 Teilnehmer)
DESCRIPTION:Dieser Kurs richtet sich an diejenigen\, die mit der Pilates-Methode vertraut sind und das Training vertiefen wollen.
URL:https://pilates4you.eu/event/yoga-am-abend-max-6-teilnehmer/2026-06-17/
LOCATION:Hotel Achtermann\, Goslar\, Mauerstr. 39\, Goslar\, 38640
ATTACH;FMTTYPE=image/jpeg:https://pilates4you.eu/wp-content/uploads/2018/01/pilates4you_kursraum.jpg
GEO:51.9096145;10.4274822
X-APPLE-STRUCTURED-LOCATION;VALUE=URI;X-ADDRESS=Hotel Achtermann Goslar Mauerstr. 39 Goslar 38640;X-APPLE-RADIUS=500;X-TITLE=Mauerstr. 39:geo:10.4274822,51.9096145
END:VEVENT
BEGIN:VEVENT
DTSTART;TZID=Europe/Berlin:20260619T160000
DTEND;TZID=Europe/Berlin:20260619T170000
DTSTAMP:20260426T022700
CREATED:20200609T114932Z
LAST-MODIFIED:20200609T114932Z
UID:16300-1781884800-1781888400@pilates4you.eu
SUMMARY:Pilates Mattenkurs Level 2 (max. 6 Teilnehmer)
DESCRIPTION:Dieser Kurs richtet sich an diejenigen\, die mit der Pilates-Methode vertraut sind und das Training vertiefen wollen.
URL:https://pilates4you.eu/event/pilates-mattenkurs-level-2-max-6-teilnehmer/2026-06-19/
LOCATION:Hotel Achtermann\, Goslar\, Mauerstr. 39\, Goslar\, 38640
ATTACH;FMTTYPE=image/jpeg:https://pilates4you.eu/wp-content/uploads/2018/01/pilates4you_kursraum.jpg
GEO:51.9096145;10.4274822
X-APPLE-STRUCTURED-LOCATION;VALUE=URI;X-ADDRESS=Hotel Achtermann Goslar Mauerstr. 39 Goslar 38640;X-APPLE-RADIUS=500;X-TITLE=Mauerstr. 39:geo:10.4274822,51.9096145
END:VEVENT
BEGIN:VEVENT
DTSTART;TZID=Europe/Berlin:20260624T180000
DTEND;TZID=Europe/Berlin:20260624T190000
DTSTAMP:20260426T022700
CREATED:20200609T114507Z
LAST-MODIFIED:20200609T114507Z
UID:16305-1782324000-1782327600@pilates4you.eu
SUMMARY:Pilates Mattenkurs Level 1-2 (max. 6 Teilnehmer)
DESCRIPTION:Für diejenigen\, die bereits einen Einsteiger-Kurs absolviert haben und mit Pilates-Training weitermachen wollen.
URL:https://pilates4you.eu/event/pilates-mattenkurs-level-1-2-max-6-teilnehmer/2026-06-24/
ATTACH;FMTTYPE=image/jpeg:https://pilates4you.eu/wp-content/uploads/2018/01/pilates4you_kursraum.jpg
END:VEVENT
BEGIN:VEVENT
DTSTART;TZID=Europe/Berlin:20260624T191500
DTEND;TZID=Europe/Berlin:20260624T211500
DTSTAMP:20260426T022700
CREATED:20200609T114626Z
LAST-MODIFIED:20200609T114626Z
UID:16306-1782328500-1782335700@pilates4you.eu
SUMMARY:Pilates Mattenkurs Level 2 (max. 6 Teilnehmer)
DESCRIPTION:Dieser Kurs richtet sich an diejenigen\, die mit der Pilates-Methode vertraut sind und das Training vertiefen wollen.
URL:https://pilates4you.eu/event/yoga-am-abend-max-6-teilnehmer/2026-06-24/
LOCATION:Hotel Achtermann\, Goslar\, Mauerstr. 39\, Goslar\, 38640
ATTACH;FMTTYPE=image/jpeg:https://pilates4you.eu/wp-content/uploads/2018/01/pilates4you_kursraum.jpg
GEO:51.9096145;10.4274822
X-APPLE-STRUCTURED-LOCATION;VALUE=URI;X-ADDRESS=Hotel Achtermann Goslar Mauerstr. 39 Goslar 38640;X-APPLE-RADIUS=500;X-TITLE=Mauerstr. 39:geo:10.4274822,51.9096145
END:VEVENT
BEGIN:VEVENT
DTSTART;TZID=Europe/Berlin:20260626T160000
DTEND;TZID=Europe/Berlin:20260626T170000
DTSTAMP:20260426T022700
CREATED:20200609T114932Z
LAST-MODIFIED:20200609T114932Z
UID:16308-1782489600-1782493200@pilates4you.eu
SUMMARY:Pilates Mattenkurs Level 2 (max. 6 Teilnehmer)
DESCRIPTION:Dieser Kurs richtet sich an diejenigen\, die mit der Pilates-Methode vertraut sind und das Training vertiefen wollen.
URL:https://pilates4you.eu/event/pilates-mattenkurs-level-2-max-6-teilnehmer/2026-06-26/
LOCATION:Hotel Achtermann\, Goslar\, Mauerstr. 39\, Goslar\, 38640
ATTACH;FMTTYPE=image/jpeg:https://pilates4you.eu/wp-content/uploads/2018/01/pilates4you_kursraum.jpg
GEO:51.9096145;10.4274822
X-APPLE-STRUCTURED-LOCATION;VALUE=URI;X-ADDRESS=Hotel Achtermann Goslar Mauerstr. 39 Goslar 38640;X-APPLE-RADIUS=500;X-TITLE=Mauerstr. 39:geo:10.4274822,51.9096145
END:VEVENT
BEGIN:VEVENT
DTSTART;TZID=Europe/Berlin:20260701T180000
DTEND;TZID=Europe/Berlin:20260701T190000
DTSTAMP:20260426T022700
CREATED:20200609T114507Z
LAST-MODIFIED:20200609T114507Z
UID:16312-1782928800-1782932400@pilates4you.eu
SUMMARY:Pilates Mattenkurs Level 1-2 (max. 6 Teilnehmer)
DESCRIPTION:Für diejenigen\, die bereits einen Einsteiger-Kurs absolviert haben und mit Pilates-Training weitermachen wollen.
URL:https://pilates4you.eu/event/pilates-mattenkurs-level-1-2-max-6-teilnehmer/2026-07-01/
ATTACH;FMTTYPE=image/jpeg:https://pilates4you.eu/wp-content/uploads/2018/01/pilates4you_kursraum.jpg
END:VEVENT
BEGIN:VEVENT
DTSTART;TZID=Europe/Berlin:20260701T191500
DTEND;TZID=Europe/Berlin:20260701T211500
DTSTAMP:20260426T022700
CREATED:20200609T114626Z
LAST-MODIFIED:20200609T114626Z
UID:16313-1782933300-1782940500@pilates4you.eu
SUMMARY:Pilates Mattenkurs Level 2 (max. 6 Teilnehmer)
DESCRIPTION:Dieser Kurs richtet sich an diejenigen\, die mit der Pilates-Methode vertraut sind und das Training vertiefen wollen.
URL:https://pilates4you.eu/event/yoga-am-abend-max-6-teilnehmer/2026-07-01/
LOCATION:Hotel Achtermann\, Goslar\, Mauerstr. 39\, Goslar\, 38640
ATTACH;FMTTYPE=image/jpeg:https://pilates4you.eu/wp-content/uploads/2018/01/pilates4you_kursraum.jpg
GEO:51.9096145;10.4274822
X-APPLE-STRUCTURED-LOCATION;VALUE=URI;X-ADDRESS=Hotel Achtermann Goslar Mauerstr. 39 Goslar 38640;X-APPLE-RADIUS=500;X-TITLE=Mauerstr. 39:geo:10.4274822,51.9096145
END:VEVENT
BEGIN:VEVENT
DTSTART;TZID=Europe/Berlin:20260703T160000
DTEND;TZID=Europe/Berlin:20260703T170000
DTSTAMP:20260426T022700
CREATED:20200609T114932Z
LAST-MODIFIED:20200609T114932Z
UID:16317-1783094400-1783098000@pilates4you.eu
SUMMARY:Pilates Mattenkurs Level 2 (max. 6 Teilnehmer)
DESCRIPTION:Dieser Kurs richtet sich an diejenigen\, die mit der Pilates-Methode vertraut sind und das Training vertiefen wollen.
URL:https://pilates4you.eu/event/pilates-mattenkurs-level-2-max-6-teilnehmer/2026-07-03/
LOCATION:Hotel Achtermann\, Goslar\, Mauerstr. 39\, Goslar\, 38640
ATTACH;FMTTYPE=image/jpeg:https://pilates4you.eu/wp-content/uploads/2018/01/pilates4you_kursraum.jpg
GEO:51.9096145;10.4274822
X-APPLE-STRUCTURED-LOCATION;VALUE=URI;X-ADDRESS=Hotel Achtermann Goslar Mauerstr. 39 Goslar 38640;X-APPLE-RADIUS=500;X-TITLE=Mauerstr. 39:geo:10.4274822,51.9096145
END:VEVENT
BEGIN:VEVENT
DTSTART;TZID=Europe/Berlin:20260708T180000
DTEND;TZID=Europe/Berlin:20260708T190000
DTSTAMP:20260426T022700
CREATED:20200609T114507Z
LAST-MODIFIED:20200609T114507Z
UID:16333-1783533600-1783537200@pilates4you.eu
SUMMARY:Pilates Mattenkurs Level 1-2 (max. 6 Teilnehmer)
DESCRIPTION:Für diejenigen\, die bereits einen Einsteiger-Kurs absolviert haben und mit Pilates-Training weitermachen wollen.
URL:https://pilates4you.eu/event/pilates-mattenkurs-level-1-2-max-6-teilnehmer/2026-07-08/
ATTACH;FMTTYPE=image/jpeg:https://pilates4you.eu/wp-content/uploads/2018/01/pilates4you_kursraum.jpg
END:VEVENT
BEGIN:VEVENT
DTSTART;TZID=Europe/Berlin:20260708T191500
DTEND;TZID=Europe/Berlin:20260708T211500
DTSTAMP:20260426T022700
CREATED:20200609T114626Z
LAST-MODIFIED:20200609T114626Z
UID:16334-1783538100-1783545300@pilates4you.eu
SUMMARY:Pilates Mattenkurs Level 2 (max. 6 Teilnehmer)
DESCRIPTION:Dieser Kurs richtet sich an diejenigen\, die mit der Pilates-Methode vertraut sind und das Training vertiefen wollen.
URL:https://pilates4you.eu/event/yoga-am-abend-max-6-teilnehmer/2026-07-08/
LOCATION:Hotel Achtermann\, Goslar\, Mauerstr. 39\, Goslar\, 38640
ATTACH;FMTTYPE=image/jpeg:https://pilates4you.eu/wp-content/uploads/2018/01/pilates4you_kursraum.jpg
GEO:51.9096145;10.4274822
X-APPLE-STRUCTURED-LOCATION;VALUE=URI;X-ADDRESS=Hotel Achtermann Goslar Mauerstr. 39 Goslar 38640;X-APPLE-RADIUS=500;X-TITLE=Mauerstr. 39:geo:10.4274822,51.9096145
END:VEVENT
BEGIN:VEVENT
DTSTART;TZID=Europe/Berlin:20260710T160000
DTEND;TZID=Europe/Berlin:20260710T170000
DTSTAMP:20260426T022700
CREATED:20200609T114932Z
LAST-MODIFIED:20200609T114932Z
UID:16336-1783699200-1783702800@pilates4you.eu
SUMMARY:Pilates Mattenkurs Level 2 (max. 6 Teilnehmer)
DESCRIPTION:Dieser Kurs richtet sich an diejenigen\, die mit der Pilates-Methode vertraut sind und das Training vertiefen wollen.
URL:https://pilates4you.eu/event/pilates-mattenkurs-level-2-max-6-teilnehmer/2026-07-10/
LOCATION:Hotel Achtermann\, Goslar\, Mauerstr. 39\, Goslar\, 38640
ATTACH;FMTTYPE=image/jpeg:https://pilates4you.eu/wp-content/uploads/2018/01/pilates4you_kursraum.jpg
GEO:51.9096145;10.4274822
X-APPLE-STRUCTURED-LOCATION;VALUE=URI;X-ADDRESS=Hotel Achtermann Goslar Mauerstr. 39 Goslar 38640;X-APPLE-RADIUS=500;X-TITLE=Mauerstr. 39:geo:10.4274822,51.9096145
END:VEVENT
BEGIN:VEVENT
DTSTART;TZID=Europe/Berlin:20260715T180000
DTEND;TZID=Europe/Berlin:20260715T190000
DTSTAMP:20260426T022700
CREATED:20200609T114507Z
LAST-MODIFIED:20200609T114507Z
UID:16340-1784138400-1784142000@pilates4you.eu
SUMMARY:Pilates Mattenkurs Level 1-2 (max. 6 Teilnehmer)
DESCRIPTION:Für diejenigen\, die bereits einen Einsteiger-Kurs absolviert haben und mit Pilates-Training weitermachen wollen.
URL:https://pilates4you.eu/event/pilates-mattenkurs-level-1-2-max-6-teilnehmer/2026-07-15/
ATTACH;FMTTYPE=image/jpeg:https://pilates4you.eu/wp-content/uploads/2018/01/pilates4you_kursraum.jpg
END:VEVENT
BEGIN:VEVENT
DTSTART;TZID=Europe/Berlin:20260715T191500
DTEND;TZID=Europe/Berlin:20260715T211500
DTSTAMP:20260426T022700
CREATED:20200609T114626Z
LAST-MODIFIED:20200609T114626Z
UID:16341-1784142900-1784150100@pilates4you.eu
SUMMARY:Pilates Mattenkurs Level 2 (max. 6 Teilnehmer)
DESCRIPTION:Dieser Kurs richtet sich an diejenigen\, die mit der Pilates-Methode vertraut sind und das Training vertiefen wollen.
URL:https://pilates4you.eu/event/yoga-am-abend-max-6-teilnehmer/2026-07-15/
LOCATION:Hotel Achtermann\, Goslar\, Mauerstr. 39\, Goslar\, 38640
ATTACH;FMTTYPE=image/jpeg:https://pilates4you.eu/wp-content/uploads/2018/01/pilates4you_kursraum.jpg
GEO:51.9096145;10.4274822
X-APPLE-STRUCTURED-LOCATION;VALUE=URI;X-ADDRESS=Hotel Achtermann Goslar Mauerstr. 39 Goslar 38640;X-APPLE-RADIUS=500;X-TITLE=Mauerstr. 39:geo:10.4274822,51.9096145
END:VEVENT
BEGIN:VEVENT
DTSTART;TZID=Europe/Berlin:20260717T160000
DTEND;TZID=Europe/Berlin:20260717T170000
DTSTAMP:20260426T022700
CREATED:20200609T114932Z
LAST-MODIFIED:20200609T114932Z
UID:16344-1784304000-1784307600@pilates4you.eu
SUMMARY:Pilates Mattenkurs Level 2 (max. 6 Teilnehmer)
DESCRIPTION:Dieser Kurs richtet sich an diejenigen\, die mit der Pilates-Methode vertraut sind und das Training vertiefen wollen.
URL:https://pilates4you.eu/event/pilates-mattenkurs-level-2-max-6-teilnehmer/2026-07-17/
LOCATION:Hotel Achtermann\, Goslar\, Mauerstr. 39\, Goslar\, 38640
ATTACH;FMTTYPE=image/jpeg:https://pilates4you.eu/wp-content/uploads/2018/01/pilates4you_kursraum.jpg
GEO:51.9096145;10.4274822
X-APPLE-STRUCTURED-LOCATION;VALUE=URI;X-ADDRESS=Hotel Achtermann Goslar Mauerstr. 39 Goslar 38640;X-APPLE-RADIUS=500;X-TITLE=Mauerstr. 39:geo:10.4274822,51.9096145
END:VEVENT
BEGIN:VEVENT
DTSTART;TZID=Europe/Berlin:20260722T180000
DTEND;TZID=Europe/Berlin:20260722T190000
DTSTAMP:20260426T022700
CREATED:20200609T114507Z
LAST-MODIFIED:20200609T114507Z
UID:16348-1784743200-1784746800@pilates4you.eu
SUMMARY:Pilates Mattenkurs Level 1-2 (max. 6 Teilnehmer)
DESCRIPTION:Für diejenigen\, die bereits einen Einsteiger-Kurs absolviert haben und mit Pilates-Training weitermachen wollen.
URL:https://pilates4you.eu/event/pilates-mattenkurs-level-1-2-max-6-teilnehmer/2026-07-22/
ATTACH;FMTTYPE=image/jpeg:https://pilates4you.eu/wp-content/uploads/2018/01/pilates4you_kursraum.jpg
END:VEVENT
BEGIN:VEVENT
DTSTART;TZID=Europe/Berlin:20260722T191500
DTEND;TZID=Europe/Berlin:20260722T211500
DTSTAMP:20260426T022700
CREATED:20200609T114626Z
LAST-MODIFIED:20200609T114626Z
UID:16349-1784747700-1784754900@pilates4you.eu
SUMMARY:Pilates Mattenkurs Level 2 (max. 6 Teilnehmer)
DESCRIPTION:Dieser Kurs richtet sich an diejenigen\, die mit der Pilates-Methode vertraut sind und das Training vertiefen wollen.
URL:https://pilates4you.eu/event/yoga-am-abend-max-6-teilnehmer/2026-07-22/
LOCATION:Hotel Achtermann\, Goslar\, Mauerstr. 39\, Goslar\, 38640
ATTACH;FMTTYPE=image/jpeg:https://pilates4you.eu/wp-content/uploads/2018/01/pilates4you_kursraum.jpg
GEO:51.9096145;10.4274822
X-APPLE-STRUCTURED-LOCATION;VALUE=URI;X-ADDRESS=Hotel Achtermann Goslar Mauerstr. 39 Goslar 38640;X-APPLE-RADIUS=500;X-TITLE=Mauerstr. 39:geo:10.4274822,51.9096145
END:VEVENT
BEGIN:VEVENT
DTSTART;TZID=Europe/Berlin:20260724T160000
DTEND;TZID=Europe/Berlin:20260724T170000
DTSTAMP:20260426T022700
CREATED:20200609T114932Z
LAST-MODIFIED:20200609T114932Z
UID:16367-1784908800-1784912400@pilates4you.eu
SUMMARY:Pilates Mattenkurs Level 2 (max. 6 Teilnehmer)
DESCRIPTION:Dieser Kurs richtet sich an diejenigen\, die mit der Pilates-Methode vertraut sind und das Training vertiefen wollen.
URL:https://pilates4you.eu/event/pilates-mattenkurs-level-2-max-6-teilnehmer/2026-07-24/
LOCATION:Hotel Achtermann\, Goslar\, Mauerstr. 39\, Goslar\, 38640
ATTACH;FMTTYPE=image/jpeg:https://pilates4you.eu/wp-content/uploads/2018/01/pilates4you_kursraum.jpg
GEO:51.9096145;10.4274822
X-APPLE-STRUCTURED-LOCATION;VALUE=URI;X-ADDRESS=Hotel Achtermann Goslar Mauerstr. 39 Goslar 38640;X-APPLE-RADIUS=500;X-TITLE=Mauerstr. 39:geo:10.4274822,51.9096145
END:VEVENT
BEGIN:VEVENT
DTSTART;TZID=Europe/Berlin:20260729T180000
DTEND;TZID=Europe/Berlin:20260729T190000
DTSTAMP:20260426T022700
CREATED:20200609T114507Z
LAST-MODIFIED:20200609T114507Z
UID:16376-1785348000-1785351600@pilates4you.eu
SUMMARY:Pilates Mattenkurs Level 1-2 (max. 6 Teilnehmer)
DESCRIPTION:Für diejenigen\, die bereits einen Einsteiger-Kurs absolviert haben und mit Pilates-Training weitermachen wollen.
URL:https://pilates4you.eu/event/pilates-mattenkurs-level-1-2-max-6-teilnehmer/2026-07-29/
ATTACH;FMTTYPE=image/jpeg:https://pilates4you.eu/wp-content/uploads/2018/01/pilates4you_kursraum.jpg
END:VEVENT
END:VCALENDAR