BEGIN:VCALENDAR
VERSION:2.0
PRODID:-//PILATES4you - ECPv6.15.20//NONSGML v1.0//EN
CALSCALE:GREGORIAN
METHOD:PUBLISH
X-WR-CALNAME:PILATES4you
X-ORIGINAL-URL:https://pilates4you.eu
X-WR-CALDESC:Veranstaltungen für PILATES4you
REFRESH-INTERVAL;VALUE=DURATION:PT1H
X-Robots-Tag:noindex
X-PUBLISHED-TTL:PT1H
BEGIN:VTIMEZONE
TZID:Europe/Berlin
BEGIN:DAYLIGHT
TZOFFSETFROM:+0100
TZOFFSETTO:+0200
TZNAME:CEST
DTSTART:20250330T010000
END:DAYLIGHT
BEGIN:STANDARD
TZOFFSETFROM:+0200
TZOFFSETTO:+0100
TZNAME:CET
DTSTART:20251026T010000
END:STANDARD
BEGIN:DAYLIGHT
TZOFFSETFROM:+0100
TZOFFSETTO:+0200
TZNAME:CEST
DTSTART:20260329T010000
END:DAYLIGHT
BEGIN:STANDARD
TZOFFSETFROM:+0200
TZOFFSETTO:+0100
TZNAME:CET
DTSTART:20261025T010000
END:STANDARD
BEGIN:DAYLIGHT
TZOFFSETFROM:+0100
TZOFFSETTO:+0200
TZNAME:CEST
DTSTART:20270328T010000
END:DAYLIGHT
BEGIN:STANDARD
TZOFFSETFROM:+0200
TZOFFSETTO:+0100
TZNAME:CET
DTSTART:20271031T010000
END:STANDARD
END:VTIMEZONE
BEGIN:VEVENT
DTSTART;TZID=Europe/Berlin:20260424T160000
DTEND;TZID=Europe/Berlin:20260424T170000
DTSTAMP:20260426T023006
CREATED:20200609T114932Z
LAST-MODIFIED:20200609T114932Z
UID:16217-1777046400-1777050000@pilates4you.eu
SUMMARY:Pilates Mattenkurs Level 2 (max. 6 Teilnehmer)
DESCRIPTION:Dieser Kurs richtet sich an diejenigen\, die mit der Pilates-Methode vertraut sind und das Training vertiefen wollen.
URL:https://pilates4you.eu/event/pilates-mattenkurs-level-2-max-6-teilnehmer/2026-04-24/
LOCATION:Hotel Achtermann\, Goslar\, Mauerstr. 39\, Goslar\, 38640
ATTACH;FMTTYPE=image/jpeg:https://pilates4you.eu/wp-content/uploads/2018/01/pilates4you_kursraum.jpg
GEO:51.9096145;10.4274822
X-APPLE-STRUCTURED-LOCATION;VALUE=URI;X-ADDRESS=Hotel Achtermann Goslar Mauerstr. 39 Goslar 38640;X-APPLE-RADIUS=500;X-TITLE=Mauerstr. 39:geo:10.4274822,51.9096145
END:VEVENT
BEGIN:VEVENT
DTSTART;TZID=Europe/Berlin:20260422T191500
DTEND;TZID=Europe/Berlin:20260422T211500
DTSTAMP:20260426T023006
CREATED:20200609T114626Z
LAST-MODIFIED:20200609T114626Z
UID:16214-1776885300-1776892500@pilates4you.eu
SUMMARY:Pilates Mattenkurs Level 2 (max. 6 Teilnehmer)
DESCRIPTION:Dieser Kurs richtet sich an diejenigen\, die mit der Pilates-Methode vertraut sind und das Training vertiefen wollen.
URL:https://pilates4you.eu/event/yoga-am-abend-max-6-teilnehmer/2026-04-22/
LOCATION:Hotel Achtermann\, Goslar\, Mauerstr. 39\, Goslar\, 38640
ATTACH;FMTTYPE=image/jpeg:https://pilates4you.eu/wp-content/uploads/2018/01/pilates4you_kursraum.jpg
GEO:51.9096145;10.4274822
X-APPLE-STRUCTURED-LOCATION;VALUE=URI;X-ADDRESS=Hotel Achtermann Goslar Mauerstr. 39 Goslar 38640;X-APPLE-RADIUS=500;X-TITLE=Mauerstr. 39:geo:10.4274822,51.9096145
END:VEVENT
BEGIN:VEVENT
DTSTART;TZID=Europe/Berlin:20260422T180000
DTEND;TZID=Europe/Berlin:20260422T190000
DTSTAMP:20260426T023006
CREATED:20200609T114507Z
LAST-MODIFIED:20200609T114507Z
UID:16213-1776880800-1776884400@pilates4you.eu
SUMMARY:Pilates Mattenkurs Level 1-2 (max. 6 Teilnehmer)
DESCRIPTION:Für diejenigen\, die bereits einen Einsteiger-Kurs absolviert haben und mit Pilates-Training weitermachen wollen.
URL:https://pilates4you.eu/event/pilates-mattenkurs-level-1-2-max-6-teilnehmer/2026-04-22/
ATTACH;FMTTYPE=image/jpeg:https://pilates4you.eu/wp-content/uploads/2018/01/pilates4you_kursraum.jpg
END:VEVENT
BEGIN:VEVENT
DTSTART;TZID=Europe/Berlin:20260417T160000
DTEND;TZID=Europe/Berlin:20260417T170000
DTSTAMP:20260426T023006
CREATED:20200609T114932Z
LAST-MODIFIED:20200609T114932Z
UID:16209-1776441600-1776445200@pilates4you.eu
SUMMARY:Pilates Mattenkurs Level 2 (max. 6 Teilnehmer)
DESCRIPTION:Dieser Kurs richtet sich an diejenigen\, die mit der Pilates-Methode vertraut sind und das Training vertiefen wollen.
URL:https://pilates4you.eu/event/pilates-mattenkurs-level-2-max-6-teilnehmer/2026-04-17/
LOCATION:Hotel Achtermann\, Goslar\, Mauerstr. 39\, Goslar\, 38640
ATTACH;FMTTYPE=image/jpeg:https://pilates4you.eu/wp-content/uploads/2018/01/pilates4you_kursraum.jpg
GEO:51.9096145;10.4274822
X-APPLE-STRUCTURED-LOCATION;VALUE=URI;X-ADDRESS=Hotel Achtermann Goslar Mauerstr. 39 Goslar 38640;X-APPLE-RADIUS=500;X-TITLE=Mauerstr. 39:geo:10.4274822,51.9096145
END:VEVENT
BEGIN:VEVENT
DTSTART;TZID=Europe/Berlin:20260415T191500
DTEND;TZID=Europe/Berlin:20260415T211500
DTSTAMP:20260426T023006
CREATED:20200609T114626Z
LAST-MODIFIED:20200609T114626Z
UID:16205-1776280500-1776287700@pilates4you.eu
SUMMARY:Pilates Mattenkurs Level 2 (max. 6 Teilnehmer)
DESCRIPTION:Dieser Kurs richtet sich an diejenigen\, die mit der Pilates-Methode vertraut sind und das Training vertiefen wollen.
URL:https://pilates4you.eu/event/yoga-am-abend-max-6-teilnehmer/2026-04-15/
LOCATION:Hotel Achtermann\, Goslar\, Mauerstr. 39\, Goslar\, 38640
ATTACH;FMTTYPE=image/jpeg:https://pilates4you.eu/wp-content/uploads/2018/01/pilates4you_kursraum.jpg
GEO:51.9096145;10.4274822
X-APPLE-STRUCTURED-LOCATION;VALUE=URI;X-ADDRESS=Hotel Achtermann Goslar Mauerstr. 39 Goslar 38640;X-APPLE-RADIUS=500;X-TITLE=Mauerstr. 39:geo:10.4274822,51.9096145
END:VEVENT
BEGIN:VEVENT
DTSTART;TZID=Europe/Berlin:20260415T180000
DTEND;TZID=Europe/Berlin:20260415T190000
DTSTAMP:20260426T023006
CREATED:20200609T114507Z
LAST-MODIFIED:20200609T114507Z
UID:16204-1776276000-1776279600@pilates4you.eu
SUMMARY:Pilates Mattenkurs Level 1-2 (max. 6 Teilnehmer)
DESCRIPTION:Für diejenigen\, die bereits einen Einsteiger-Kurs absolviert haben und mit Pilates-Training weitermachen wollen.
URL:https://pilates4you.eu/event/pilates-mattenkurs-level-1-2-max-6-teilnehmer/2026-04-15/
ATTACH;FMTTYPE=image/jpeg:https://pilates4you.eu/wp-content/uploads/2018/01/pilates4you_kursraum.jpg
END:VEVENT
BEGIN:VEVENT
DTSTART;TZID=Europe/Berlin:20260410T160000
DTEND;TZID=Europe/Berlin:20260410T170000
DTSTAMP:20260426T023006
CREATED:20200609T114932Z
LAST-MODIFIED:20200609T114932Z
UID:16182-1775836800-1775840400@pilates4you.eu
SUMMARY:Pilates Mattenkurs Level 2 (max. 6 Teilnehmer)
DESCRIPTION:Dieser Kurs richtet sich an diejenigen\, die mit der Pilates-Methode vertraut sind und das Training vertiefen wollen.
URL:https://pilates4you.eu/event/pilates-mattenkurs-level-2-max-6-teilnehmer/2026-04-10/
LOCATION:Hotel Achtermann\, Goslar\, Mauerstr. 39\, Goslar\, 38640
ATTACH;FMTTYPE=image/jpeg:https://pilates4you.eu/wp-content/uploads/2018/01/pilates4you_kursraum.jpg
GEO:51.9096145;10.4274822
X-APPLE-STRUCTURED-LOCATION;VALUE=URI;X-ADDRESS=Hotel Achtermann Goslar Mauerstr. 39 Goslar 38640;X-APPLE-RADIUS=500;X-TITLE=Mauerstr. 39:geo:10.4274822,51.9096145
END:VEVENT
BEGIN:VEVENT
DTSTART;TZID=Europe/Berlin:20260408T191500
DTEND;TZID=Europe/Berlin:20260408T211500
DTSTAMP:20260426T023006
CREATED:20200609T114626Z
LAST-MODIFIED:20200609T114626Z
UID:16179-1775675700-1775682900@pilates4you.eu
SUMMARY:Pilates Mattenkurs Level 2 (max. 6 Teilnehmer)
DESCRIPTION:Dieser Kurs richtet sich an diejenigen\, die mit der Pilates-Methode vertraut sind und das Training vertiefen wollen.
URL:https://pilates4you.eu/event/yoga-am-abend-max-6-teilnehmer/2026-04-08/
LOCATION:Hotel Achtermann\, Goslar\, Mauerstr. 39\, Goslar\, 38640
ATTACH;FMTTYPE=image/jpeg:https://pilates4you.eu/wp-content/uploads/2018/01/pilates4you_kursraum.jpg
GEO:51.9096145;10.4274822
X-APPLE-STRUCTURED-LOCATION;VALUE=URI;X-ADDRESS=Hotel Achtermann Goslar Mauerstr. 39 Goslar 38640;X-APPLE-RADIUS=500;X-TITLE=Mauerstr. 39:geo:10.4274822,51.9096145
END:VEVENT
BEGIN:VEVENT
DTSTART;TZID=Europe/Berlin:20260408T180000
DTEND;TZID=Europe/Berlin:20260408T190000
DTSTAMP:20260426T023006
CREATED:20200609T114507Z
LAST-MODIFIED:20200609T114507Z
UID:16178-1775671200-1775674800@pilates4you.eu
SUMMARY:Pilates Mattenkurs Level 1-2 (max. 6 Teilnehmer)
DESCRIPTION:Für diejenigen\, die bereits einen Einsteiger-Kurs absolviert haben und mit Pilates-Training weitermachen wollen.
URL:https://pilates4you.eu/event/pilates-mattenkurs-level-1-2-max-6-teilnehmer/2026-04-08/
ATTACH;FMTTYPE=image/jpeg:https://pilates4you.eu/wp-content/uploads/2018/01/pilates4you_kursraum.jpg
END:VEVENT
BEGIN:VEVENT
DTSTART;TZID=Europe/Berlin:20260403T160000
DTEND;TZID=Europe/Berlin:20260403T170000
DTSTAMP:20260426T023006
CREATED:20200609T114932Z
LAST-MODIFIED:20200609T114932Z
UID:16173-1775232000-1775235600@pilates4you.eu
SUMMARY:Pilates Mattenkurs Level 2 (max. 6 Teilnehmer)
DESCRIPTION:Dieser Kurs richtet sich an diejenigen\, die mit der Pilates-Methode vertraut sind und das Training vertiefen wollen.
URL:https://pilates4you.eu/event/pilates-mattenkurs-level-2-max-6-teilnehmer/2026-04-03/
LOCATION:Hotel Achtermann\, Goslar\, Mauerstr. 39\, Goslar\, 38640
ATTACH;FMTTYPE=image/jpeg:https://pilates4you.eu/wp-content/uploads/2018/01/pilates4you_kursraum.jpg
GEO:51.9096145;10.4274822
X-APPLE-STRUCTURED-LOCATION;VALUE=URI;X-ADDRESS=Hotel Achtermann Goslar Mauerstr. 39 Goslar 38640;X-APPLE-RADIUS=500;X-TITLE=Mauerstr. 39:geo:10.4274822,51.9096145
END:VEVENT
BEGIN:VEVENT
DTSTART;TZID=Europe/Berlin:20260401T191500
DTEND;TZID=Europe/Berlin:20260401T211500
DTSTAMP:20260426T023006
CREATED:20200609T114626Z
LAST-MODIFIED:20200609T114626Z
UID:16170-1775070900-1775078100@pilates4you.eu
SUMMARY:Pilates Mattenkurs Level 2 (max. 6 Teilnehmer)
DESCRIPTION:Dieser Kurs richtet sich an diejenigen\, die mit der Pilates-Methode vertraut sind und das Training vertiefen wollen.
URL:https://pilates4you.eu/event/yoga-am-abend-max-6-teilnehmer/2026-04-01/
LOCATION:Hotel Achtermann\, Goslar\, Mauerstr. 39\, Goslar\, 38640
ATTACH;FMTTYPE=image/jpeg:https://pilates4you.eu/wp-content/uploads/2018/01/pilates4you_kursraum.jpg
GEO:51.9096145;10.4274822
X-APPLE-STRUCTURED-LOCATION;VALUE=URI;X-ADDRESS=Hotel Achtermann Goslar Mauerstr. 39 Goslar 38640;X-APPLE-RADIUS=500;X-TITLE=Mauerstr. 39:geo:10.4274822,51.9096145
END:VEVENT
BEGIN:VEVENT
DTSTART;TZID=Europe/Berlin:20260401T180000
DTEND;TZID=Europe/Berlin:20260401T190000
DTSTAMP:20260426T023006
CREATED:20200609T114507Z
LAST-MODIFIED:20200609T114507Z
UID:16169-1775066400-1775070000@pilates4you.eu
SUMMARY:Pilates Mattenkurs Level 1-2 (max. 6 Teilnehmer)
DESCRIPTION:Für diejenigen\, die bereits einen Einsteiger-Kurs absolviert haben und mit Pilates-Training weitermachen wollen.
URL:https://pilates4you.eu/event/pilates-mattenkurs-level-1-2-max-6-teilnehmer/2026-04-01/
ATTACH;FMTTYPE=image/jpeg:https://pilates4you.eu/wp-content/uploads/2018/01/pilates4you_kursraum.jpg
END:VEVENT
BEGIN:VEVENT
DTSTART;TZID=Europe/Berlin:20260327T160000
DTEND;TZID=Europe/Berlin:20260327T170000
DTSTAMP:20260426T023006
CREATED:20200609T114932Z
LAST-MODIFIED:20200609T114932Z
UID:16165-1774627200-1774630800@pilates4you.eu
SUMMARY:Pilates Mattenkurs Level 2 (max. 6 Teilnehmer)
DESCRIPTION:Dieser Kurs richtet sich an diejenigen\, die mit der Pilates-Methode vertraut sind und das Training vertiefen wollen.
URL:https://pilates4you.eu/event/pilates-mattenkurs-level-2-max-6-teilnehmer/2026-03-27/
LOCATION:Hotel Achtermann\, Goslar\, Mauerstr. 39\, Goslar\, 38640
ATTACH;FMTTYPE=image/jpeg:https://pilates4you.eu/wp-content/uploads/2018/01/pilates4you_kursraum.jpg
GEO:51.9096145;10.4274822
X-APPLE-STRUCTURED-LOCATION;VALUE=URI;X-ADDRESS=Hotel Achtermann Goslar Mauerstr. 39 Goslar 38640;X-APPLE-RADIUS=500;X-TITLE=Mauerstr. 39:geo:10.4274822,51.9096145
END:VEVENT
BEGIN:VEVENT
DTSTART;TZID=Europe/Berlin:20260325T191500
DTEND;TZID=Europe/Berlin:20260325T211500
DTSTAMP:20260426T023006
CREATED:20200609T114626Z
LAST-MODIFIED:20200609T114626Z
UID:16163-1774466100-1774473300@pilates4you.eu
SUMMARY:Pilates Mattenkurs Level 2 (max. 6 Teilnehmer)
DESCRIPTION:Dieser Kurs richtet sich an diejenigen\, die mit der Pilates-Methode vertraut sind und das Training vertiefen wollen.
URL:https://pilates4you.eu/event/yoga-am-abend-max-6-teilnehmer/2026-03-25/
LOCATION:Hotel Achtermann\, Goslar\, Mauerstr. 39\, Goslar\, 38640
ATTACH;FMTTYPE=image/jpeg:https://pilates4you.eu/wp-content/uploads/2018/01/pilates4you_kursraum.jpg
GEO:51.9096145;10.4274822
X-APPLE-STRUCTURED-LOCATION;VALUE=URI;X-ADDRESS=Hotel Achtermann Goslar Mauerstr. 39 Goslar 38640;X-APPLE-RADIUS=500;X-TITLE=Mauerstr. 39:geo:10.4274822,51.9096145
END:VEVENT
BEGIN:VEVENT
DTSTART;TZID=Europe/Berlin:20260325T180000
DTEND;TZID=Europe/Berlin:20260325T190000
DTSTAMP:20260426T023006
CREATED:20200609T114507Z
LAST-MODIFIED:20200609T114507Z
UID:16162-1774461600-1774465200@pilates4you.eu
SUMMARY:Pilates Mattenkurs Level 1-2 (max. 6 Teilnehmer)
DESCRIPTION:Für diejenigen\, die bereits einen Einsteiger-Kurs absolviert haben und mit Pilates-Training weitermachen wollen.
URL:https://pilates4you.eu/event/pilates-mattenkurs-level-1-2-max-6-teilnehmer/2026-03-25/
ATTACH;FMTTYPE=image/jpeg:https://pilates4you.eu/wp-content/uploads/2018/01/pilates4you_kursraum.jpg
END:VEVENT
BEGIN:VEVENT
DTSTART;TZID=Europe/Berlin:20260320T160000
DTEND;TZID=Europe/Berlin:20260320T170000
DTSTAMP:20260426T023006
CREATED:20200609T114932Z
LAST-MODIFIED:20200609T114932Z
UID:16158-1774022400-1774026000@pilates4you.eu
SUMMARY:Pilates Mattenkurs Level 2 (max. 6 Teilnehmer)
DESCRIPTION:Dieser Kurs richtet sich an diejenigen\, die mit der Pilates-Methode vertraut sind und das Training vertiefen wollen.
URL:https://pilates4you.eu/event/pilates-mattenkurs-level-2-max-6-teilnehmer/2026-03-20/
LOCATION:Hotel Achtermann\, Goslar\, Mauerstr. 39\, Goslar\, 38640
ATTACH;FMTTYPE=image/jpeg:https://pilates4you.eu/wp-content/uploads/2018/01/pilates4you_kursraum.jpg
GEO:51.9096145;10.4274822
X-APPLE-STRUCTURED-LOCATION;VALUE=URI;X-ADDRESS=Hotel Achtermann Goslar Mauerstr. 39 Goslar 38640;X-APPLE-RADIUS=500;X-TITLE=Mauerstr. 39:geo:10.4274822,51.9096145
END:VEVENT
BEGIN:VEVENT
DTSTART;TZID=Europe/Berlin:20260318T191500
DTEND;TZID=Europe/Berlin:20260318T211500
DTSTAMP:20260426T023006
CREATED:20200609T114626Z
LAST-MODIFIED:20200609T114626Z
UID:16156-1773861300-1773868500@pilates4you.eu
SUMMARY:Pilates Mattenkurs Level 2 (max. 6 Teilnehmer)
DESCRIPTION:Dieser Kurs richtet sich an diejenigen\, die mit der Pilates-Methode vertraut sind und das Training vertiefen wollen.
URL:https://pilates4you.eu/event/yoga-am-abend-max-6-teilnehmer/2026-03-18/
LOCATION:Hotel Achtermann\, Goslar\, Mauerstr. 39\, Goslar\, 38640
ATTACH;FMTTYPE=image/jpeg:https://pilates4you.eu/wp-content/uploads/2018/01/pilates4you_kursraum.jpg
GEO:51.9096145;10.4274822
X-APPLE-STRUCTURED-LOCATION;VALUE=URI;X-ADDRESS=Hotel Achtermann Goslar Mauerstr. 39 Goslar 38640;X-APPLE-RADIUS=500;X-TITLE=Mauerstr. 39:geo:10.4274822,51.9096145
END:VEVENT
BEGIN:VEVENT
DTSTART;TZID=Europe/Berlin:20260318T180000
DTEND;TZID=Europe/Berlin:20260318T190000
DTSTAMP:20260426T023006
CREATED:20200609T114507Z
LAST-MODIFIED:20200609T114507Z
UID:16155-1773856800-1773860400@pilates4you.eu
SUMMARY:Pilates Mattenkurs Level 1-2 (max. 6 Teilnehmer)
DESCRIPTION:Für diejenigen\, die bereits einen Einsteiger-Kurs absolviert haben und mit Pilates-Training weitermachen wollen.
URL:https://pilates4you.eu/event/pilates-mattenkurs-level-1-2-max-6-teilnehmer/2026-03-18/
ATTACH;FMTTYPE=image/jpeg:https://pilates4you.eu/wp-content/uploads/2018/01/pilates4you_kursraum.jpg
END:VEVENT
BEGIN:VEVENT
DTSTART;TZID=Europe/Berlin:20260313T160000
DTEND;TZID=Europe/Berlin:20260313T170000
DTSTAMP:20260426T023006
CREATED:20200609T114932Z
LAST-MODIFIED:20200609T114932Z
UID:16151-1773417600-1773421200@pilates4you.eu
SUMMARY:Pilates Mattenkurs Level 2 (max. 6 Teilnehmer)
DESCRIPTION:Dieser Kurs richtet sich an diejenigen\, die mit der Pilates-Methode vertraut sind und das Training vertiefen wollen.
URL:https://pilates4you.eu/event/pilates-mattenkurs-level-2-max-6-teilnehmer/2026-03-13/
LOCATION:Hotel Achtermann\, Goslar\, Mauerstr. 39\, Goslar\, 38640
ATTACH;FMTTYPE=image/jpeg:https://pilates4you.eu/wp-content/uploads/2018/01/pilates4you_kursraum.jpg
GEO:51.9096145;10.4274822
X-APPLE-STRUCTURED-LOCATION;VALUE=URI;X-ADDRESS=Hotel Achtermann Goslar Mauerstr. 39 Goslar 38640;X-APPLE-RADIUS=500;X-TITLE=Mauerstr. 39:geo:10.4274822,51.9096145
END:VEVENT
BEGIN:VEVENT
DTSTART;TZID=Europe/Berlin:20260311T191500
DTEND;TZID=Europe/Berlin:20260311T211500
DTSTAMP:20260426T023006
CREATED:20200609T114626Z
LAST-MODIFIED:20200609T114626Z
UID:16149-1773256500-1773263700@pilates4you.eu
SUMMARY:Pilates Mattenkurs Level 2 (max. 6 Teilnehmer)
DESCRIPTION:Dieser Kurs richtet sich an diejenigen\, die mit der Pilates-Methode vertraut sind und das Training vertiefen wollen.
URL:https://pilates4you.eu/event/yoga-am-abend-max-6-teilnehmer/2026-03-11/
LOCATION:Hotel Achtermann\, Goslar\, Mauerstr. 39\, Goslar\, 38640
ATTACH;FMTTYPE=image/jpeg:https://pilates4you.eu/wp-content/uploads/2018/01/pilates4you_kursraum.jpg
GEO:51.9096145;10.4274822
X-APPLE-STRUCTURED-LOCATION;VALUE=URI;X-ADDRESS=Hotel Achtermann Goslar Mauerstr. 39 Goslar 38640;X-APPLE-RADIUS=500;X-TITLE=Mauerstr. 39:geo:10.4274822,51.9096145
END:VEVENT
BEGIN:VEVENT
DTSTART;TZID=Europe/Berlin:20260311T180000
DTEND;TZID=Europe/Berlin:20260311T190000
DTSTAMP:20260426T023006
CREATED:20200609T114507Z
LAST-MODIFIED:20200609T114507Z
UID:16148-1773252000-1773255600@pilates4you.eu
SUMMARY:Pilates Mattenkurs Level 1-2 (max. 6 Teilnehmer)
DESCRIPTION:Für diejenigen\, die bereits einen Einsteiger-Kurs absolviert haben und mit Pilates-Training weitermachen wollen.
URL:https://pilates4you.eu/event/pilates-mattenkurs-level-1-2-max-6-teilnehmer/2026-03-11/
ATTACH;FMTTYPE=image/jpeg:https://pilates4you.eu/wp-content/uploads/2018/01/pilates4you_kursraum.jpg
END:VEVENT
BEGIN:VEVENT
DTSTART;TZID=Europe/Berlin:20260306T160000
DTEND;TZID=Europe/Berlin:20260306T170000
DTSTAMP:20260426T023006
CREATED:20200609T114932Z
LAST-MODIFIED:20200609T114932Z
UID:16143-1772812800-1772816400@pilates4you.eu
SUMMARY:Pilates Mattenkurs Level 2 (max. 6 Teilnehmer)
DESCRIPTION:Dieser Kurs richtet sich an diejenigen\, die mit der Pilates-Methode vertraut sind und das Training vertiefen wollen.
URL:https://pilates4you.eu/event/pilates-mattenkurs-level-2-max-6-teilnehmer/2026-03-06/
LOCATION:Hotel Achtermann\, Goslar\, Mauerstr. 39\, Goslar\, 38640
ATTACH;FMTTYPE=image/jpeg:https://pilates4you.eu/wp-content/uploads/2018/01/pilates4you_kursraum.jpg
GEO:51.9096145;10.4274822
X-APPLE-STRUCTURED-LOCATION;VALUE=URI;X-ADDRESS=Hotel Achtermann Goslar Mauerstr. 39 Goslar 38640;X-APPLE-RADIUS=500;X-TITLE=Mauerstr. 39:geo:10.4274822,51.9096145
END:VEVENT
BEGIN:VEVENT
DTSTART;TZID=Europe/Berlin:20260304T191500
DTEND;TZID=Europe/Berlin:20260304T211500
DTSTAMP:20260426T023006
CREATED:20200609T114626Z
LAST-MODIFIED:20200609T114626Z
UID:16141-1772651700-1772658900@pilates4you.eu
SUMMARY:Pilates Mattenkurs Level 2 (max. 6 Teilnehmer)
DESCRIPTION:Dieser Kurs richtet sich an diejenigen\, die mit der Pilates-Methode vertraut sind und das Training vertiefen wollen.
URL:https://pilates4you.eu/event/yoga-am-abend-max-6-teilnehmer/2026-03-04/
LOCATION:Hotel Achtermann\, Goslar\, Mauerstr. 39\, Goslar\, 38640
ATTACH;FMTTYPE=image/jpeg:https://pilates4you.eu/wp-content/uploads/2018/01/pilates4you_kursraum.jpg
GEO:51.9096145;10.4274822
X-APPLE-STRUCTURED-LOCATION;VALUE=URI;X-ADDRESS=Hotel Achtermann Goslar Mauerstr. 39 Goslar 38640;X-APPLE-RADIUS=500;X-TITLE=Mauerstr. 39:geo:10.4274822,51.9096145
END:VEVENT
BEGIN:VEVENT
DTSTART;TZID=Europe/Berlin:20260304T180000
DTEND;TZID=Europe/Berlin:20260304T190000
DTSTAMP:20260426T023006
CREATED:20200609T114507Z
LAST-MODIFIED:20200609T114507Z
UID:16140-1772647200-1772650800@pilates4you.eu
SUMMARY:Pilates Mattenkurs Level 1-2 (max. 6 Teilnehmer)
DESCRIPTION:Für diejenigen\, die bereits einen Einsteiger-Kurs absolviert haben und mit Pilates-Training weitermachen wollen.
URL:https://pilates4you.eu/event/pilates-mattenkurs-level-1-2-max-6-teilnehmer/2026-03-04/
ATTACH;FMTTYPE=image/jpeg:https://pilates4you.eu/wp-content/uploads/2018/01/pilates4you_kursraum.jpg
END:VEVENT
BEGIN:VEVENT
DTSTART;TZID=Europe/Berlin:20260227T160000
DTEND;TZID=Europe/Berlin:20260227T170000
DTSTAMP:20260426T023006
CREATED:20200609T114932Z
LAST-MODIFIED:20200609T114932Z
UID:16135-1772208000-1772211600@pilates4you.eu
SUMMARY:Pilates Mattenkurs Level 2 (max. 6 Teilnehmer)
DESCRIPTION:Dieser Kurs richtet sich an diejenigen\, die mit der Pilates-Methode vertraut sind und das Training vertiefen wollen.
URL:https://pilates4you.eu/event/pilates-mattenkurs-level-2-max-6-teilnehmer/2026-02-27/
LOCATION:Hotel Achtermann\, Goslar\, Mauerstr. 39\, Goslar\, 38640
ATTACH;FMTTYPE=image/jpeg:https://pilates4you.eu/wp-content/uploads/2018/01/pilates4you_kursraum.jpg
GEO:51.9096145;10.4274822
X-APPLE-STRUCTURED-LOCATION;VALUE=URI;X-ADDRESS=Hotel Achtermann Goslar Mauerstr. 39 Goslar 38640;X-APPLE-RADIUS=500;X-TITLE=Mauerstr. 39:geo:10.4274822,51.9096145
END:VEVENT
BEGIN:VEVENT
DTSTART;TZID=Europe/Berlin:20260225T191500
DTEND;TZID=Europe/Berlin:20260225T211500
DTSTAMP:20260426T023006
CREATED:20200609T114626Z
LAST-MODIFIED:20200609T114626Z
UID:16133-1772046900-1772054100@pilates4you.eu
SUMMARY:Pilates Mattenkurs Level 2 (max. 6 Teilnehmer)
DESCRIPTION:Dieser Kurs richtet sich an diejenigen\, die mit der Pilates-Methode vertraut sind und das Training vertiefen wollen.
URL:https://pilates4you.eu/event/yoga-am-abend-max-6-teilnehmer/2026-02-25/
LOCATION:Hotel Achtermann\, Goslar\, Mauerstr. 39\, Goslar\, 38640
ATTACH;FMTTYPE=image/jpeg:https://pilates4you.eu/wp-content/uploads/2018/01/pilates4you_kursraum.jpg
GEO:51.9096145;10.4274822
X-APPLE-STRUCTURED-LOCATION;VALUE=URI;X-ADDRESS=Hotel Achtermann Goslar Mauerstr. 39 Goslar 38640;X-APPLE-RADIUS=500;X-TITLE=Mauerstr. 39:geo:10.4274822,51.9096145
END:VEVENT
BEGIN:VEVENT
DTSTART;TZID=Europe/Berlin:20260225T180000
DTEND;TZID=Europe/Berlin:20260225T190000
DTSTAMP:20260426T023006
CREATED:20200609T114507Z
LAST-MODIFIED:20200609T114507Z
UID:16132-1772042400-1772046000@pilates4you.eu
SUMMARY:Pilates Mattenkurs Level 1-2 (max. 6 Teilnehmer)
DESCRIPTION:Für diejenigen\, die bereits einen Einsteiger-Kurs absolviert haben und mit Pilates-Training weitermachen wollen.
URL:https://pilates4you.eu/event/pilates-mattenkurs-level-1-2-max-6-teilnehmer/2026-02-25/
ATTACH;FMTTYPE=image/jpeg:https://pilates4you.eu/wp-content/uploads/2018/01/pilates4you_kursraum.jpg
END:VEVENT
BEGIN:VEVENT
DTSTART;TZID=Europe/Berlin:20260220T160000
DTEND;TZID=Europe/Berlin:20260220T170000
DTSTAMP:20260426T023006
CREATED:20200609T114932Z
LAST-MODIFIED:20200609T114932Z
UID:16128-1771603200-1771606800@pilates4you.eu
SUMMARY:Pilates Mattenkurs Level 2 (max. 6 Teilnehmer)
DESCRIPTION:Dieser Kurs richtet sich an diejenigen\, die mit der Pilates-Methode vertraut sind und das Training vertiefen wollen.
URL:https://pilates4you.eu/event/pilates-mattenkurs-level-2-max-6-teilnehmer/2026-02-20/
LOCATION:Hotel Achtermann\, Goslar\, Mauerstr. 39\, Goslar\, 38640
ATTACH;FMTTYPE=image/jpeg:https://pilates4you.eu/wp-content/uploads/2018/01/pilates4you_kursraum.jpg
GEO:51.9096145;10.4274822
X-APPLE-STRUCTURED-LOCATION;VALUE=URI;X-ADDRESS=Hotel Achtermann Goslar Mauerstr. 39 Goslar 38640;X-APPLE-RADIUS=500;X-TITLE=Mauerstr. 39:geo:10.4274822,51.9096145
END:VEVENT
BEGIN:VEVENT
DTSTART;TZID=Europe/Berlin:20260218T191500
DTEND;TZID=Europe/Berlin:20260218T211500
DTSTAMP:20260426T023006
CREATED:20200609T114626Z
LAST-MODIFIED:20200609T114626Z
UID:16126-1771442100-1771449300@pilates4you.eu
SUMMARY:Pilates Mattenkurs Level 2 (max. 6 Teilnehmer)
DESCRIPTION:Dieser Kurs richtet sich an diejenigen\, die mit der Pilates-Methode vertraut sind und das Training vertiefen wollen.
URL:https://pilates4you.eu/event/yoga-am-abend-max-6-teilnehmer/2026-02-18/
LOCATION:Hotel Achtermann\, Goslar\, Mauerstr. 39\, Goslar\, 38640
ATTACH;FMTTYPE=image/jpeg:https://pilates4you.eu/wp-content/uploads/2018/01/pilates4you_kursraum.jpg
GEO:51.9096145;10.4274822
X-APPLE-STRUCTURED-LOCATION;VALUE=URI;X-ADDRESS=Hotel Achtermann Goslar Mauerstr. 39 Goslar 38640;X-APPLE-RADIUS=500;X-TITLE=Mauerstr. 39:geo:10.4274822,51.9096145
END:VEVENT
BEGIN:VEVENT
DTSTART;TZID=Europe/Berlin:20260218T180000
DTEND;TZID=Europe/Berlin:20260218T190000
DTSTAMP:20260426T023006
CREATED:20200609T114507Z
LAST-MODIFIED:20200609T114507Z
UID:16125-1771437600-1771441200@pilates4you.eu
SUMMARY:Pilates Mattenkurs Level 1-2 (max. 6 Teilnehmer)
DESCRIPTION:Für diejenigen\, die bereits einen Einsteiger-Kurs absolviert haben und mit Pilates-Training weitermachen wollen.
URL:https://pilates4you.eu/event/pilates-mattenkurs-level-1-2-max-6-teilnehmer/2026-02-18/
ATTACH;FMTTYPE=image/jpeg:https://pilates4you.eu/wp-content/uploads/2018/01/pilates4you_kursraum.jpg
END:VEVENT
END:VCALENDAR